BEGIN:VCALENDAR
VERSION:2.0
PRODID:-//ChamberMaster//Event Calendar 2.0//EN
METHOD:PUBLISH
X-PUBLISHED-TTL:P3D
REFRESH-INTERVAL:P3D
CALSCALE:GREGORIAN
BEGIN:VEVENT
DTSTART:20100130T163000Z
DTEND:20100130T190000Z
X-MICROSOFT-CDO-ALLDAYEVENT:FALSE
SUMMARY:Event at Sugar Valley Estates
DESCRIPTION:WHERE OH WHERE DO I START?!!!  The carefree retirement lifestyle you've earned starts now with $1000 towards move-in costs! Includes brunch with a two real estate senior specialists\, RVNA\, Exodus Movers\, and a "Right Size" Senior Relocation Company and a $100 door prize!
X-ALT-DESC;FMTTYPE=text/html:WHERE OH WHERE DO I START?!!!  The carefree retirement lifestyle you've earned starts now with $1000 towards move-in costs! Includes brunch with a two real estate senior specialists\, RVNA\, Exodus Movers\, and a "Right Size" Senior Relocation Company and a $100 door prize!
LOCATION:Sugar Valley Estates 4320 Georgetown Drive Loveland\, CO 80538
UID:e.593.2400
SEQUENCE:3
DTSTAMP:20260419T173138Z
URL:https://business.loveland.org/events/details/event-at-sugar-valley-estates-01-30-2010-2400
END:VEVENT

END:VCALENDAR
