BEGIN:VCALENDAR
VERSION:2.0
PRODID:-//ChamberMaster//Event Calendar 2.0//EN
METHOD:PUBLISH
X-PUBLISHED-TTL:P3D
REFRESH-INTERVAL:P3D
CALSCALE:GREGORIAN
BEGIN:VEVENT
DTSTART:20091114T150000Z
DTEND:20091114T170000Z
X-MICROSOFT-CDO-ALLDAYEVENT:FALSE
SUMMARY:Event at Sugar Valley Estates
DESCRIPTION:SPECIAL FUNDRAISER FOR\nTHE AMERICAN CANCER SOCIETY\nPlease join us for a PANCAKE BREAKFAST\nprepared by our amazing chefs on\nSaturday\, November 14 from 8:00 AM -10:00 AM\n$5 per person - all proceeds go to\nThe American Cancer Society\nNo RSVP necessary - come and bring a friend or neighbor!
X-ALT-DESC;FMTTYPE=text/html:SPECIAL FUNDRAISER FOR\nTHE AMERICAN CANCER SOCIETY\nPlease join us for a PANCAKE BREAKFAST\nprepared by our amazing chefs on\nSaturday\, November 14 from 8:00 AM -10:00 AM\n$5 per person - all proceeds go to\nThe American Cancer Society\nNo RSVP necessary - come and bring a friend or neighbor!\n
LOCATION:Sugar Valley Estates 4320 Georgetown Dr. Loveland 1 block west of Taft & 43rd
UID:e.593.2037
SEQUENCE:3
DTSTAMP:20260419T190709Z
URL:https://business.loveland.org/events/details/event-at-sugar-valley-estates-11-14-2009-2037
END:VEVENT

END:VCALENDAR
