BEGIN:VCALENDAR
VERSION:2.0
PRODID:-//ChamberMaster//Event Calendar 2.0//EN
METHOD:PUBLISH
X-PUBLISHED-TTL:P3D
REFRESH-INTERVAL:P3D
CALSCALE:GREGORIAN
BEGIN:VEVENT
DTSTART:20091218T013000Z
DTEND:20091218T030000Z
X-MICROSOFT-CDO-ALLDAYEVENT:FALSE
SUMMARY:Event at Sugar Valley Estates
DESCRIPTION:The American Association for Wartime Veterans
X-ALT-DESC;FMTTYPE=text/html:The American Association for Wartime Veterans
LOCATION:Activity Room at Sugar Valley 4320 Georgetown Drive Loveland\, CO 80538
UID:e.593.2057
SEQUENCE:3
DTSTAMP:20260419T173725Z
URL:https://business.loveland.org/events/details/event-at-sugar-valley-estates-12-17-2009-2057
END:VEVENT

END:VCALENDAR
