BEGIN:VCALENDAR
VERSION:2.0
PRODID:-//ChamberMaster//Event Calendar 2.0//EN
METHOD:PUBLISH
X-PUBLISHED-TTL:P3D
REFRESH-INTERVAL:P3D
CALSCALE:GREGORIAN
BEGIN:VEVENT
DTSTART:20091106T000000Z
DTEND:20091106T040000Z
X-MICROSOFT-CDO-ALLDAYEVENT:FALSE
SUMMARY:Fall In To Jewels
DESCRIPTION:Benefit Event for The House of Neighborly Service. New and gently used jewelry sale.
X-ALT-DESC;FMTTYPE=text/html:<div>Benefit Event for The House of Neighborly Service. New and gently used jewelry sale.</div>
LOCATION:Fountains of Loveland Ballroom
UID:e.593.13
SEQUENCE:3
DTSTAMP:20260419T190801Z
URL:https://business.loveland.org/events/details/fall-in-to-jewels-11-05-2009-13
END:VEVENT

END:VCALENDAR
