BEGIN:VCALENDAR
VERSION:2.0
PRODID:-//ChamberMaster//Event Calendar 2.0//EN
METHOD:PUBLISH
X-PUBLISHED-TTL:P3D
REFRESH-INTERVAL:P3D
CALSCALE:GREGORIAN
BEGIN:VEVENT
DTSTART:20260514T230000Z
DTEND:20260515T020000Z
X-MICROSOFT-CDO-ALLDAYEVENT:FALSE
SUMMARY:Forks & Fury: The Great Community Kitchen Throw Down
DESCRIPTION:Join us for an evening of incredible food\, friendly competition\, and community connection.\n\nCome for the bites\, stay for the excitement\, and leave knowing you helped feed neighbors in need.\n\nThe Community Kitchen Mission:\n\nA place where there is a meal for the hungry\, conversation for the lonely\, rest for those who are struggling and a voice for those in need.\n\nWe are thrilled to invite you to our First Annual Forks & Fury: The Great Community Kitchen Throwdown\, a signature culinary fundraising event celebrating Loveland Community Kitchen's 30th year of feeding our neighbors in need.\n\nThis exciting\, community-centered event will take place on Thursday\, May 14\, 2026\, 5PM VIP\, 6-8pm General\, at Venue 319 in Loveland\, and will bring together local culinary talent\, food lovers\, and supporters for an unforgettable evening of flavor\, connection\, and impact.\n\nEvent Theme\n\nHomegrown Talent. Homegrown Impact.\n\nForks & Fury is a friendly tasting competition where local chefs and restaurants showcase their\n\ncreativity and generosity in support of hunger relief. \n\nGuests will enjoy an evening of inspired small bites prepared by local chefs\, each bringing their\n\nunique interpretation of "community comfort" to the plate. Guests serve as the judges\,\n\ncasting votes for their favorite dishes while learning more about the critical work of the\n\nCommunity Kitchen.
X-ALT-DESC;FMTTYPE=text/html:<p>Join us for an evening&nbsp\;of incredible food\, friendly competition\, and community connection.<br />\nCome for the bites\, stay for the excitement\, and leave knowing you helped feed neighbors in need.</p>\n\n<p><strong>The Community Kitchen Mission:</strong></p>\n\n<p><strong>A place where there is a meal for the hungry\, conversation for the lonely\, rest for those who are struggling and a voice for those in need.</strong></p>\n\n<p>We are thrilled to invite you to our First Annual Forks &amp\; Fury: The Great Community Kitchen Throwdown\, a signature culinary fundraising event celebrating Loveland Community Kitchen&rsquo\;s 30th year of feeding our neighbors in need.<br />\nThis exciting\, community-centered event will take place on Thursday\, May 14\, 2026\, 5PM VIP\, 6-8pm General\, at Venue 319 in Loveland\, and will bring together local culinary talent\, food lovers\, and supporters for an unforgettable evening of flavor\, connection\, and impact.</p>\n\n<p><strong>Event Theme</strong><br />\n<em>Homegrown Talent. Homegrown Impact.</em><br />\nForks &amp\; Fury is a friendly tasting competition where local chefs and restaurants showcase their<br />\ncreativity and generosity in support of hunger relief.&nbsp\;</p>\n\n<p>Guests will enjoy an evening of inspired small bites prepared by local chefs\, each bringing their<br />\nunique interpretation of &ldquo\;community comfort&rdquo\; to the plate. Guests serve as the judges\,<br />\ncasting votes for their favorite dishes while learning more about the critical work of the<br />\nCommunity Kitchen.</p>\n
LOCATION:Venue 319: 319 N Cleveland Ave. Loveland\, CO\, 80537
UID:e.593.26570
SEQUENCE:3
DTSTAMP:20260422T113601Z
URL:https://business.loveland.org/events/details/forks-fury-the-great-community-kitchen-throw-down-26570
END:VEVENT

END:VCALENDAR
