BEGIN:VCALENDAR
VERSION:2.0
PRODID:-//ChamberMaster//Event Calendar 2.0//EN
METHOD:PUBLISH
X-PUBLISHED-TTL:P3D
REFRESH-INTERVAL:P3D
CALSCALE:GREGORIAN
BEGIN:VEVENT
DTSTART:20091030T140000Z
DTEND:20091105T000000Z
X-MICROSOFT-CDO-ALLDAYEVENT:FALSE
SUMMARY:Free Winter Clothing Distribution
DESCRIPTION:Free Winter Clothing Distribution\nHosted By:  Help International\, Homeless Gear & The Murphy Center For Hope\n\nAll nonprofit agencies of Northern Colorado will be given the chance to come\nto the Murphy Center of Hope in Fort Collins and receive free used winter\nclothing suitable for all ages from Toddler through Adult.  We will have\nhundreds of boxes of product available with all the clothing pre-sorted into\nindividual boxes for Adult Men\, Adult Women\, Girls\, and Boys.  Any agency\nmay take as many boxes of clothing as they wish and will also be permitted\nto sort through some boxes and pull out specific items of need.  This is\nyour chance to stock up for the cold months ahead with winter clothing to\nmeet your clients' needs. \n\n \n\nAll product is available on a first-come\, first-served basis. You do not\nneed to register your intent to come to the event.  Please pass this\ninformation along to any nonprofit agency that might have an interest in\nparticipating in this one-time event. \n\n \n\nEach box may contain any or all of the following items:\n\n  \n\n.         Coats\n\n.         Hats\, Scarves\, Gloves\n\n.         Sweatshirts\n\n.         Sweaters\n\n.         Hoodies\n\n.         Sweat Pants\n\n.         Long Sleeved Shirts\n\n.         Thermals
X-ALT-DESC;FMTTYPE=text/html:<div>Free Winter Clothing Distribution<br />Hosted By:&nbsp\; Help International\, Homeless Gear &amp\; The Murphy Center For Hope<br /><br />All nonprofit agencies of Northern Colorado will be given the chance to come<br />to the Murphy Center of Hope in Fort Collins and receive free used winter<br />clothing suitable for all ages from Toddler through Adult.&nbsp\; We will have<br />hundreds of boxes of product available with all the clothing pre-sorted into<br />individual boxes for Adult Men\, Adult Women\, Girls\, and Boys.&nbsp\; Any agency<br />may take as many boxes of clothing as they wish and will also be permitted<br />to sort through some boxes and pull out specific items of need.&nbsp\; This is<br />your chance to stock up for the cold months ahead with winter clothing to<br />meet your clients' needs. <br /><br /> <br /><br />All product is available on a first-come\, first-served basis. You do not<br />need to register your intent to come to the event.&nbsp\; Please pass this<br />information along to any nonprofit agency that might have an interest in<br />participating in this one-time event. <br /><br /> <br /><br />Each box may contain any or all of the following items:<br /><br />&nbsp\; <br /><br />.&nbsp\;&nbsp\;&nbsp\;&nbsp\;&nbsp\;&nbsp\;&nbsp\;&nbsp\; Coats<br /><br />.&nbsp\;&nbsp\;&nbsp\;&nbsp\;&nbsp\;&nbsp\;&nbsp\;&nbsp\; Hats\, Scarves\, Gloves<br /><br />.&nbsp\;&nbsp\;&nbsp\;&nbsp\;&nbsp\;&nbsp\;&nbsp\;&nbsp\; Sweatshirts<br /><br />.&nbsp\;&nbsp\;&nbsp\;&nbsp\;&nbsp\;&nbsp\;&nbsp\;&nbsp\; Sweaters<br /><br />.&nbsp\;&nbsp\;&nbsp\;&nbsp\;&nbsp\;&nbsp\;&nbsp\;&nbsp\; Hoodies<br /><br />.&nbsp\;&nbsp\;&nbsp\;&nbsp\;&nbsp\;&nbsp\;&nbsp\;&nbsp\; Sweat Pants<br /><br />.&nbsp\;&nbsp\;&nbsp\;&nbsp\;&nbsp\;&nbsp\;&nbsp\;&nbsp\; Long Sleeved Shirts<br /><br />.&nbsp\;&nbsp\;&nbsp\;&nbsp\;&nbsp\;&nbsp\;&nbsp\;&nbsp\; Thermals<br />&nbsp\;</div>
LOCATION:Murphy Center For Hope\,242 Conifer Street (Corner of Blue Spruce &Conifer)Fort Collins\, CO 80524
UID:e.593.1898
SEQUENCE:3
DTSTAMP:20260419T203328Z
URL:https://business.loveland.org/events/details/free-winter-clothing-distribution-10-30-2009-1898
END:VEVENT

END:VCALENDAR
