BEGIN:VCALENDAR
VERSION:2.0
PRODID:-//ChamberMaster//Event Calendar 2.0//EN
METHOD:PUBLISH
X-PUBLISHED-TTL:P3D
REFRESH-INTERVAL:P3D
CALSCALE:GREGORIAN
BEGIN:VEVENT
DTSTART:20100129T230000Z
DTEND:20100130T000000Z
X-MICROSOFT-CDO-ALLDAYEVENT:FALSE
SUMMARY:Friday Afternoon Club (FAC)
DESCRIPTION:Join us for the Loveland Chamber's casual leads group open to all investor's. Held on the 3nd and 4th Fridays of each month\, this is an opportunity to wind down the work week by discussing some casual business/personal questions and thoughts.
X-ALT-DESC;FMTTYPE=text/html:<div>Join us for the Loveland Chamber's casual leads group open to all investor's. Held on the 3nd and 4th Fridays of each month\, this is an opportunity to wind down the work week by discussing some casual business/personal questions and thoughts.</div>
LOCATION:Monroe's Lounge @ Best Western Crossroads Inn (Hwy 34 & I-25)
UID:e.593.2408
SEQUENCE:3
DTSTAMP:20260419T160249Z
URL:https://business.loveland.org/events/details/friday-afternoon-club-fac-01-29-2010-2408
END:VEVENT

END:VCALENDAR
