BEGIN:VCALENDAR
VERSION:2.0
PRODID:-//ChamberMaster//Event Calendar 2.0//EN
METHOD:PUBLISH
X-PUBLISHED-TTL:P3D
REFRESH-INTERVAL:P3D
CALSCALE:GREGORIAN
BEGIN:VEVENT
DTSTART:20091023T220000Z
DTEND:20091025T210000Z
X-MICROSOFT-CDO-ALLDAYEVENT:FALSE
SUMMARY:Friends of the Loveland Public Library - Fall Used Book Sale
DESCRIPTION:
X-ALT-DESC;FMTTYPE=text/html:<div><style type="text/css"></style> </div>
LOCATION:McKee 4-H Building at The Ranch
UID:e.593.1888
SEQUENCE:3
DTSTAMP:20260419T220507Z
URL:https://business.loveland.org/events/details/friends-of-the-loveland-public-library-fall-used-book-sale-10-23-2009-1888
END:VEVENT

END:VCALENDAR
