BEGIN:VCALENDAR
VERSION:2.0
PRODID:-//ChamberMaster//Event Calendar 2.0//EN
METHOD:PUBLISH
X-PUBLISHED-TTL:P3D
REFRESH-INTERVAL:P3D
CALSCALE:GREGORIAN
BEGIN:VEVENT
DTSTART;VALUE=DATE:20091031
DTEND;VALUE=DATE:20091101
TRANSP:TRANSPARENT
X-MICROSOFT-CDO-ALLDAYEVENT:TRUE
SUMMARY:HALLOWEEN HULLABALOO
DESCRIPTION:HALLOWEEN HULLABALOO OCTOBER 31 AT CENTERRA\n\nVisit The Marketplace at Centerra for a Day of Fall Fun\n The Marketplace at Centerra has something\nfor everyone with the third annual Halloween Hullabaloo\, a family-fun street\nfestival on Saturday\, October 31.\n\nJoin your fellow costumed creatures at the Halloween Hullabaloo on Fall\nRiver Drive Saturday\, October 31\, from noon to 4 p.m. for an afternoon of\nface painting\, balloon artists\, inflatable slide and obstacle course\,\ncostume contest\, treats and more.  Be sure to stop by the Centerra Booth to\nregister for the costume contest\, learn about special retail offers and pick\nup free coupons.\n\nThe festival will feature a wide range of children's activities and live\nentertainment including the dancing Chick-Fil-A Cows and a special visit\nfrom Wendy from Wendy's.  Families can enjoy a Halloween safety fair with\nthe Loveland Fire and Police Departments with special guest appearances by\nJustice Joe and Safety Sam! Attendees will also get a chance to meet the\nLarimer County Search and Rescue team including the Search and Rescue dog\nteam! 99.9 The Point will host a live remote featuring prizes and giveaways\nto capture all things fall. \n\nThe festival concludes with a Halloween costume contest from 3 p.m. to 4\np.m. The contest is open to all members of the family including infants\,\nchildren\, adults\, groups and family pets. First\, second and third place\nprizes will be awarded in each age group as follows: Ages 0-3\; Ages 4-5\;\nAges 6-8\; Ages 9-12\; Ages 13 & up\; group theme\; and family pet\, so dress up\nthe whole family and join in the festivities. The "best costume overall"\nwill also be awarded as a finale to the contest. Costume contest sign-up\nwill be open from Noon until 2:45 p.m. at the Centerra Booth.  \n\nSchedule of events:\n\n12 noon - Halloween Hullabaloo Begins\n\n1 p.m. - Dance Party with the Chick-Fil-A Cows located on the stage\n\n1:30 p.m. - Larimer County Search and Rescue Team Demonstration located on\nthe stage\n\n2 p.m. to 4 p.m. - 99.9 The Point Live Remote with prizes and giveaways\n\n2 p.m. - Safety Fair on stage with Justice Joe and Safety Sam\n\n2:45 p.m. - Costume Contest Sign-up Deadline located at the Centerra Booth\n\n3 p.m. to 4 p.m.  - Costume Contest on the stage\n\nAdmission to the Halloween Hullabaloo is FREE\, but with the rapidly changing\nseasons\, we will be accepting canned food donations for the Larimer County\nFood Bank. Donate and receive a 10% off coupon to Old Navy\, available while\nsupplies last. The Rocky Mountain Chocolate Factory will also be donating\n.25 cents per apple sold\, so get into the fall spirit and purchase a caramel\nor candied apple while helping someone in need.\n\nLocated west of Interstate 25 and north of Highway 34\, The Marketplace at\nCenterra is one of the largest contiguous power centers in Northern\nColorado. For more information on the Halloween Hullabaloo\, please visit\n http://www.centerracolorado.com/  www.centerracolorado.com.
X-ALT-DESC;FMTTYPE=text/html:<div>HALLOWEEN HULLABALOO OCTOBER 31 AT CENTERRA<br /><br />Visit The Marketplace at Centerra for a Day of Fall Fun<br />&nbsp\;</div><div>The Marketplace at Centerra has something<br />for everyone with the third annual Halloween Hullabaloo\, a family-fun street<br />festival on Saturday\, October 31.<br /><br />Join your fellow costumed creatures at the Halloween Hullabaloo on Fall<br />River Drive Saturday\, October 31\, from noon to 4 p.m. for an afternoon of<br />face painting\, balloon artists\, inflatable slide and obstacle course\,<br />costume contest\, treats and more.&nbsp\; Be sure to stop by the Centerra Booth to<br />register for the costume contest\, learn about special retail offers and pick<br />up free coupons.<br /><br />The festival will feature a wide range of children's activities and live<br />entertainment including the dancing Chick-Fil-A Cows and a special visit<br />from Wendy from Wendy's.&nbsp\; Families can enjoy a Halloween safety fair with<br />the Loveland Fire and Police Departments with special guest appearances by<br />Justice Joe and Safety Sam! Attendees will also get a chance to meet the<br />Larimer County Search and Rescue team including the Search and Rescue dog<br />team! 99.9 The Point will host a live remote featuring prizes and giveaways<br />to capture all things fall. <br /><br />The festival concludes with a Halloween costume contest from 3 p.m. to 4<br />p.m. The contest is open to all members of the family including infants\,<br />children\, adults\, groups and family pets. First\, second and third place<br />prizes will be awarded in each age group as follows: Ages 0-3\; Ages 4-5\;<br />Ages 6-8\; Ages 9-12\; Ages 13 &amp\; up\; group theme\; and family pet\, so dress up<br />the whole family and join in the festivities. The &quot\;best costume overall&quot\;<br />will also be awarded as a finale to the contest. Costume contest sign-up<br />will be open from Noon until 2:45 p.m. at the Centerra Booth.&nbsp\; <br /><br />Schedule of events:<br /><br />12 noon - Halloween Hullabaloo Begins<br /><br />1 p.m. - Dance Party with the Chick-Fil-A Cows located on the stage<br /><br />1:30 p.m. - Larimer County Search and Rescue Team Demonstration located on<br />the stage<br /><br />2 p.m. to 4 p.m. - 99.9 The Point Live Remote with prizes and giveaways<br /><br />2 p.m. - Safety Fair on stage with Justice Joe and Safety Sam<br /><br />2:45 p.m. - Costume Contest Sign-up Deadline located at the Centerra Booth<br /><br />3 p.m. to 4 p.m.&nbsp\; - Costume Contest on the stage<br /><br />Admission to the Halloween Hullabaloo is FREE\, but with the rapidly changing<br />seasons\, we will be accepting canned food donations for the Larimer County<br />Food Bank. Donate and receive a 10% off coupon to Old Navy\, available while<br />supplies last. The Rocky Mountain Chocolate Factory will also be donating<br />.25 cents per apple sold\, so get into the fall spirit and purchase a caramel<br />or candied apple while helping someone in need.<br /><br />Located west of Interstate 25 and north of Highway 34\, The Marketplace at<br />Centerra is one of the largest contiguous power centers in Northern<br />Colorado. For more information on the Halloween Hullabaloo\, please visit<br />&lt\;<a href="http://www.centerracolorado.com/" target="_blank">http://www.centerracolorado.com/</a>&gt\; www.centerracolorado.com.<br />&nbsp\;</div>
LOCATION:The Marketplace at Centerra Located west of Interstate 25 and north of Highway 34\, The Marketplace at Centerra is one of the largest contiguous power centers in Northern Colorado. For more information on the Halloween Hullabaloo\, please visit http://www.centerracolorado.com/ www.centerracolorado.com.
UID:e.593.1896
SEQUENCE:3
DTSTAMP:20260419T215432Z
URL:https://business.loveland.org/events/details/halloween-hullabaloo-10-31-2009-1896
END:VEVENT

END:VCALENDAR
