BEGIN:VCALENDAR
VERSION:2.0
PRODID:-//ChamberMaster//Event Calendar 2.0//EN
METHOD:PUBLISH
X-PUBLISHED-TTL:P3D
REFRESH-INTERVAL:P3D
CALSCALE:GREGORIAN
BEGIN:VEVENT
DTSTART:20100225T000000Z
DTEND:20100225T030000Z
X-MICROSOFT-CDO-ALLDAYEVENT:FALSE
SUMMARY:Happy Hour with Community Kitchen
DESCRIPTION:Leadership Loveland Class of 2009/2010 will be hosting a Happy Hour at the Pour  House Bar and Grill to benefit Community Kitchen. The Pour House will donate 10  percent of its proceeds from 5 to 8:00 PM to Community  Kitchen. Please invite friends  and family and let's try to fill the place. It will also be an opportunity for  us to meet with the board from the Community Kitchen and discuss our  project.
X-ALT-DESC;FMTTYPE=text/html:<p class="MsoNormal" style="margin-left: 0.5in\;"><big><small><font color="#1f497d"><span style="color: rgb(31\, 73\, 125)\;">Leadership Loveland Class of 2009/2010 will be hosting a Happy Hour at the Pour  House Bar and Grill to benefit Community Kitchen. The Pour House will donate 10  percent of its proceeds from 5 to 8:00 PM to Community  Kitchen.</span></font></small></big><font color="#1f497d"><span style="color: rgb(31\, 73\, 125)\;"><o:p></o:p></span></font> <font color="#1f497d"><span style="color: rgb(31\, 73\, 125)\;"><o:p></o:p><big><small>Please invite friends  and family and let&rsquo\;s try to fill the place. It will also be an opportunity for  us to meet with the board from the Community Kitchen and discuss our  project.</small></big></span></font><font size="2" face="Calibri" color="#1f497d"><span style="font-size: 11pt\; color: rgb(31\, 73\, 125)\; font-family: Calibri\;"><o:p></o:p></span></font></p>
LOCATION:The Pour House Grill is located at 124 E. Fourth Street in Downtown.
UID:e.593.2526
SEQUENCE:3
DTSTAMP:20260419T143232Z
URL:https://business.loveland.org/events/details/happy-hour-with-community-kitchen-02-24-2010-2526
END:VEVENT

END:VCALENDAR
