BEGIN:VCALENDAR
VERSION:2.0
PRODID:-//ChamberMaster//Event Calendar 2.0//EN
METHOD:PUBLISH
X-PUBLISHED-TTL:P3D
REFRESH-INTERVAL:P3D
CALSCALE:GREGORIAN
BEGIN:VEVENT
DTSTART:20100318T220000Z
DTEND:20100318T230000Z
X-MICROSOFT-CDO-ALLDAYEVENT:FALSE
SUMMARY:Healing Touch by the Hillcrest
DESCRIPTION:Hillcrest Senior Living Community is hosting a "Spring Presentation Series" from  Thursday\, March 11th to Thursday\, May 20th. The benefits of touch: provice comfort\, energy\, and improved well-being
X-ALT-DESC;FMTTYPE=text/html:<div>Hillcrest Senior Living Community is hosting a &ldquo\;Spring Presentation Series&rdquo\; from  Thursday\, March 11<sup>th</sup> to Thursday\, May 20<sup>th.</sup></div><div>&nbsp\;</div><div>The benefits of touch: provice comfort\, energy\, and improved well-being</div>
LOCATION:The Hillcrest\, 535 N. Douglas in Loveland
UID:e.593.2743
SEQUENCE:3
DTSTAMP:20260419T143441Z
URL:https://business.loveland.org/events/details/healing-touch-by-the-hillcrest-03-18-2010-2743
END:VEVENT

END:VCALENDAR
