BEGIN:VCALENDAR
VERSION:2.0
PRODID:-//ChamberMaster//Event Calendar 2.0//EN
METHOD:PUBLISH
X-PUBLISHED-TTL:P3D
REFRESH-INTERVAL:P3D
CALSCALE:GREGORIAN
BEGIN:VEVENT
DTSTART:20091120T000000Z
DTEND:20091120T010000Z
X-MICROSOFT-CDO-ALLDAYEVENT:FALSE
SUMMARY:High Impact Signs and Graphics Ribbon Cutting
DESCRIPTION:Grand opening and joint ribbon cutting for the Loveland and Berthoud Chambers of Commerce.  Please stop by to help us celebrate our new location and to enjoy some good food and networking!.  We will also be hosting Reflections for Youth and inviting our guests to make a donation to this group that helps at risk youth with education\, counciling\, and housing.  For every $5 you donate to RFY\, your name will be entered in a drawing for a free limo ride and dinner at Sofia's Bistro.
X-ALT-DESC;FMTTYPE=text/html:Grand opening and joint ribbon cutting for the Loveland and Berthoud Chambers of Commerce.  Please stop by to help us celebrate our new location and to enjoy some good food and networking!.  We will also be hosting Reflections for Youth and inviting our guests to make a donation to this group that helps at risk youth with education\, counciling\, and housing.  For every $5 you donate to RFY\, your name will be entered in a drawing for a free limo ride and dinner at Sofia's Bistro.  
LOCATION:1546 Taurus Court\, Loveland\, OC 80537
UID:e.593.1900
SEQUENCE:3
DTSTAMP:20260419T190834Z
URL:https://business.loveland.org/events/details/high-impact-signs-and-graphics-ribbon-cutting-11-19-2009-1900
END:VEVENT

END:VCALENDAR
