BEGIN:VCALENDAR
VERSION:2.0
PRODID:-//ChamberMaster//Event Calendar 2.0//EN
METHOD:PUBLISH
X-PUBLISHED-TTL:P3D
REFRESH-INTERVAL:P3D
CALSCALE:GREGORIAN
BEGIN:VEVENT
DTSTART:20091010T190000Z
DTEND:20091011T000000Z
X-MICROSOFT-CDO-ALLDAYEVENT:FALSE
SUMMARY:Highcraft Builders Benefit Party
DESCRIPTION:HighCraft Builders and Alpine Lumber are hosting a tailgate party at the Colorado State University homecoming football game. The event will raise funds and awareness for the nonprofit organization Adoption Dreams Come True. Tickets to the fundraising event are $25 and include a barbeque lunch and admission to the game. All proceeds benefit Adoption Dreams Come True\, a private\, nonprofit adoption agency dedicated to making happy\, healthy and lifelong families through the process of adoption. Ram Town at Hughes Stadium\, 2011 Overland Trail\, www.HighCraft.net or (970) 472-8100 for details and to RSVP
X-ALT-DESC;FMTTYPE=text/html:<div><span class="Apple-style-span" style="widows: 2\; text-transform: none\; text-indent: 0px\; border-collapse: separate\; font: medium 'Times New Roman'\; white-space: normal\; orphans: 2\; letter-spacing: normal\; color: rgb(0\,0\,0)\; word-spacing: 0px\; -webkit-border-horizontal-spacing: 0px\; -webkit-border-vertical-spacing: 0px\; -webkit-text-decorations-in-effect: none\; -webkit-text-size-adjust: auto\; -webkit-text-stroke-width: 0px"><span class="Apple-style-span" style="font-family: Verdana\, Arial\, sans-serif\; font-size: 11px">HighCraft Builders and Alpine Lumber are hosting a tailgate party at the Colorado State University homecoming football game. The event will raise funds and awareness for the nonprofit organization Adoption Dreams Come True. Tickets to the fundraising event are $25 and include a barbeque lunch and admission to the game. All proceeds benefit Adoption Dreams Come True\, a private\, nonprofit adoption agency dedicated to making happy\, healthy and lifelong families through the process of adoption. Ram Town at Hughes Stadium\, 2011 Overland Trail\, www.HighCraft.net or (970) 472-8100 for details and to RSVP</span></span></div>
LOCATION:
UID:e.593.1612
SEQUENCE:3
DTSTAMP:20260419T215623Z
URL:https://business.loveland.org/events/details/highcraft-builders-benefit-party-10-10-2009-1612
END:VEVENT

END:VCALENDAR
