BEGIN:VCALENDAR
VERSION:2.0
PRODID:-//ChamberMaster//Event Calendar 2.0//EN
METHOD:PUBLISH
X-PUBLISHED-TTL:P3D
REFRESH-INTERVAL:P3D
CALSCALE:GREGORIAN
BEGIN:VEVENT
DTSTART:20091212T170000Z
DTEND:20091213T010000Z
X-MICROSOFT-CDO-ALLDAYEVENT:FALSE
SUMMARY:Holiday Benefit Festival
DESCRIPTION:Come Join the Fun and give to a Great Cause!  Vertical Horizons is teaming up with The Church at Loveland to provide a Benefit Festival for charity.  We are offering 25% of our proceeds to go back into our local community and will be doing a Food Drive as a way to take dollars off for a helicopter ride(Limit 5 per customer).
X-ALT-DESC;FMTTYPE=text/html:Come Join the Fun and give to a Great Cause!  Vertical Horizons is teaming up with The Church at Loveland to provide a Benefit Festival for charity.  We are offering 25% of our proceeds to go back into our local community and will be doing a Food Drive as a way to take dollars off for a helicopter ride(Limit 5 per customer).
LOCATION:The Church at Loveland 3835 S. W. 14th Street Loveland\, CO 80537
UID:e.593.1623
SEQUENCE:3
DTSTAMP:20260419T173418Z
URL:https://business.loveland.org/events/details/holiday-benefit-festival-12-12-2009-1623
END:VEVENT

END:VCALENDAR
