BEGIN:VCALENDAR
VERSION:2.0
PRODID:-//ChamberMaster//Event Calendar 2.0//EN
METHOD:PUBLISH
X-PUBLISHED-TTL:P3D
REFRESH-INTERVAL:P3D
CALSCALE:GREGORIAN
BEGIN:VEVENT
DTSTART:20091113T000000Z
DTEND:20091113T030000Z
X-MICROSOFT-CDO-ALLDAYEVENT:FALSE
SUMMARY:HOLIDAY SHOWCASE IN AUTUMN
DESCRIPTION:FOOD\, FUN\, PRIZES Will have quality gifts and handcrafted items available Offer fine teas\, hot cider\, and holiday desserts Drawings every half an hour Please contact Linda Stotz\, owner of McCreery House 970-278-1848Or Ann Fisher\, Lia Sophia Advisor 970-405-4208 for more information or vendor application
X-ALT-DESC;FMTTYPE=text/html:<div><div style="text-align: center\; margin: 0in 0in 0pt"><span style="font-size: 18pt">FOOD\, FUN\, PRIZES</span></div><div style="text-align: center\; margin: 0in 0in 0pt">&nbsp\;</div><div style="text-align: center\; margin: 0in 0in 0pt"><span style="font-size: 18pt">Will have quality gifts and handcrafted items available</span></div><div style="text-align: center\; margin: 0in 0in 0pt">&nbsp\;</div><div style="text-align: center\; margin: 0in 0in 0pt"><span style="font-size: 18pt">Offer fine teas\, hot cider\, and holiday desserts</span></div><div style="text-align: center\; margin: 0in 0in 0pt">&nbsp\;</div><div style="text-align: center\; margin: 0in 0in 0pt"><span style="font-size: 18pt">Drawings every half an hour</span></div><div style="text-align: center\; margin: 0in 0in 0pt">&nbsp\;</div><div style="text-align: center\; margin: 0in 0in 0pt"><span style="font-size: 18pt">Please contact Linda Stotz\, owner of McCreery House 970-278-1848</span></div><div style="text-align: center\; margin: 0in 0in 0pt"><span style="font-size: 18pt">Or Ann Fisher\, Lia Sophia Advisor 970-405-4208 for more information or vendor application</span></div></div>
LOCATION:At the historical McCreery House 746 N. Washington Ave.\, Loveland\, Colorado
UID:e.593.1895
SEQUENCE:3
DTSTAMP:20260419T191331Z
URL:https://business.loveland.org/events/details/holiday-showcase-in-autumn-11-12-2009-1895
END:VEVENT

END:VCALENDAR
