BEGIN:VCALENDAR
VERSION:2.0
PRODID:-//ChamberMaster//Event Calendar 2.0//EN
METHOD:PUBLISH
X-PUBLISHED-TTL:P3D
REFRESH-INTERVAL:P3D
CALSCALE:GREGORIAN
BEGIN:VEVENT
DTSTART:20091111T193000Z
DTEND:20091111T210000Z
X-MICROSOFT-CDO-ALLDAYEVENT:FALSE
SUMMARY:Honoring Veterans of War: Veterans Day Luncheon
DESCRIPTION:Please join The Hillcrest as we honor our veterans with a complimentary "SOS" lunch\, guest military speakers\, and tributes to those who have served our country on Veterans Day.
X-ALT-DESC;FMTTYPE=text/html:<span style="font-size: 12pt\;">Please join The Hillcrest as we honor our veterans with a complimentary &ldquo\;SOS&rdquo\; lunch\, guest military speakers\, and tributes to those who have served our country on Veterans Day.</span>
LOCATION:The Hillcrest Senior Living Community is located at 535 North Douglas Avenue in Loveland.
UID:e.593.1903
SEQUENCE:3
DTSTAMP:20260419T204806Z
URL:https://business.loveland.org/events/details/honoring-veterans-of-war-veterans-day-luncheon-11-11-2009-1903
END:VEVENT

END:VCALENDAR
