BEGIN:VCALENDAR
VERSION:2.0
PRODID:-//ChamberMaster//Event Calendar 2.0//EN
METHOD:PUBLISH
X-PUBLISHED-TTL:P3D
REFRESH-INTERVAL:P3D
CALSCALE:GREGORIAN
BEGIN:VEVENT
DTSTART:20260409T150000Z
DTEND:20260409T170000Z
X-MICROSOFT-CDO-ALLDAYEVENT:FALSE
SUMMARY:How Can My Business Be Bankable?
DESCRIPTION:This event is ideal for small-business owners\, entrepreneurs\, and leaders who want stronger forecasting skills\, a clearer understanding of working-capital needs\, and a better grasp of funding options and banking relationships.\n \nIn this event Jason Walters\, director of SBA lending at Adams Bank and Trust will be discussing the following.\n\n \n\n\n	Forecasting / Projections (30 minutes)\n\n	\n		How does the P&L correlate to your business plan\n		How does your ambitions and goals impact your balance sheet / working capital\n		Importance of Working Capital\n	\n	\n	Funding Resources/Importance of Bank relationship   (30 minutes)\n	\n		Private Equity\n		Conventional Lending\n		SBA 7a and 504\n		Revolving Funds\n		Grants\n		Online Fintechs / Alternative Lenders   Be careful!\n	\n	\n	Open Dialogue (30 minutes)   I want to hear your concerns! Let me help!
X-ALT-DESC;FMTTYPE=text/html:<span style="font-family:verdana"><span style="background-color:rgb(255\, 255\, 255)\; color:rgba(0\, 0\, 0\, 0.8)\; font-size:14px">This event is ideal for small-business owners\, entrepreneurs\, and leaders who want stronger forecasting skills\, a clearer understanding of working-capital needs\, and a better grasp of funding options and banking relationships.</span></span>\n<div>&nbsp\;\n<p><span style="font-family:verdana"><span style="font-size:14px">In this event Jason Walters\, director of SBA lending at Adams Bank and Trust will be discussing the following.</span></span></p>\n\n<p>&nbsp\;</p>\n\n<ol>\n	<li><span style="font-family:verdana"><span style="font-size:14px">Forecasting / Projections (30 minutes)</span></span>\n\n	<ol>\n		<li><span style="font-family:verdana"><span style="font-size:14px">How does the P&amp\;L correlate to your business plan</span></span></li>\n		<li><span style="font-family:verdana"><span style="font-size:14px">How does your ambitions and goals impact your balance sheet / working capital</span></span></li>\n		<li><span style="font-family:verdana"><span style="font-size:14px">Importance of Working Capital</span></span></li>\n	</ol>\n	</li>\n	<li><span style="font-family:verdana"><span style="font-size:14px">Funding Resources/Importance of Bank relationship&nbsp\;&ndash\; (30 minutes)</span></span>\n	<ol>\n		<li><span style="font-family:verdana"><span style="font-size:14px">Private Equity</span></span></li>\n		<li><span style="font-family:verdana"><span style="font-size:14px">Conventional Lending</span></span></li>\n		<li><span style="font-family:verdana"><span style="font-size:14px">SBA 7a and 504</span></span></li>\n		<li><span style="font-family:verdana"><span style="font-size:14px">Revolving Funds</span></span></li>\n		<li><span style="font-family:verdana"><span style="font-size:14px">Grants</span></span></li>\n		<li><span style="font-family:verdana"><span style="font-size:14px">Online Fintechs / Alternative Lenders &ndash\; Be careful!</span></span></li>\n	</ol>\n	</li>\n	<li><span style="font-family:verdana"><span style="font-size:14px">Open Dialogue (30 minutes) &ndash\; I want to hear your concerns! Let me help!</span></span></li>\n</ol>\n</div>\n
LOCATION:Adams Bank & Trust 7800 S Highway 287 Fort Collins\, CO. 80525
UID:e.593.26535
SEQUENCE:3
DTSTAMP:20260420T065359Z
URL:https://business.loveland.org/events/details/how-can-my-business-be-bankable-26535
END:VEVENT

END:VCALENDAR
