BEGIN:VCALENDAR
VERSION:2.0
PRODID:-//ChamberMaster//Event Calendar 2.0//EN
METHOD:PUBLISH
X-PUBLISHED-TTL:P3D
REFRESH-INTERVAL:P3D
CALSCALE:GREGORIAN
BEGIN:VEVENT
DTSTART:20091217T230000Z
DTEND:20091218T000000Z
X-MICROSOFT-CDO-ALLDAYEVENT:FALSE
SUMMARY:Jerry Pippen Piano Performance
DESCRIPTION:Piano Performance
X-ALT-DESC;FMTTYPE=text/html:Piano Performance
LOCATION:Sugar Valley Estates 4320 George Drive Loveland\, CO 80537
UID:e.593.2061
SEQUENCE:3
DTSTAMP:20260419T173137Z
URL:https://business.loveland.org/events/details/jerry-pippen-piano-performance-12-17-2009-2061
END:VEVENT

END:VCALENDAR
