BEGIN:VCALENDAR
VERSION:2.0
PRODID:-//ChamberMaster//Event Calendar 2.0//EN
METHOD:PUBLISH
X-PUBLISHED-TTL:P3D
REFRESH-INTERVAL:P3D
CALSCALE:GREGORIAN
BEGIN:VEVENT
DTSTART:20100211T010000Z
DTEND:20100211T050000Z
X-MICROSOFT-CDO-ALLDAYEVENT:FALSE
SUMMARY:Johnson's Corner hosting Dining Day fundraiser
DESCRIPTION:Historic Johnson's Corner is hosting a Dining Day fundraiser event to benefit  Hearts & Horses\, a local non-profit organization helping those with special  needs. Johnson's  Corner will donate 15 percent of restaurant sales from 6:00 am to 10:00 pm on  Wednesday in an effort to raise money for Hearts & Horses.  Hearts  & Horses is a non-profit organization founded in 1997 that offers  therapeutic horseback riding to individuals with special needs\, promoting the  physical\, cognitive\, emotional and social well-being of people through unique\,  assisted therapy. Johnson's  Corner believes in and supports the efforts of Hearts & Horses and is  excited to partner with the organization and contribute to such a wonderful  cause.
X-ALT-DESC;FMTTYPE=text/html:<p style="text-indent: 0.5in\; line-height: 150%\;" class="MsoNormal"><font size="3" face="Calibri"><span style="font-size: 11.5pt\; line-height: 150%\;">Historic Johnson&rsquo\;s Corner is hosting a Dining Day fundraiser event to benefit  Hearts &amp\; Horses\, a local non-profit organization helping those with special  needs. Johnson&rsquo\;s  Corner will donate 15 percent of restaurant sales from 6:00 am to 10:00 pm on  Wednesday in an effort to raise money for Hearts &amp\; Horses.  Hearts  &amp\; Horses is a non-profit organization founded in 1997 that offers  therapeutic horseback riding to individuals with special needs\, promoting the  physical\, cognitive\, emotional and social well-being of people through unique\,  assisted therapy. Johnson&rsquo\;s  Corner believes in and supports the efforts of Hearts &amp\; Horses and is  excited to partner with the organization and contribute to such a wonderful  cause. <o:p></o:p></span></font><font size="3" face="Calibri"><span style="font-size: 11.5pt\; line-height: 150%\;"><br /></span></font></p>
LOCATION:A full-service truck stop and world-famous restaurant\, Historic Johnson's Corner has not closed its doors since it opened in 1952. Located just south Loveland\, off I-25 and Exit 254\, Johnson's Corner is open seven days a week\, 24 hours a day\, serving up old-fashioned\, home-style cooking and hospitality.
UID:e.593.2525
SEQUENCE:3
DTSTAMP:20260419T143230Z
URL:https://business.loveland.org/events/details/johnson-s-corner-hosting-dining-day-fundraiser-02-10-2010-2525
END:VEVENT

END:VCALENDAR
