BEGIN:VCALENDAR
VERSION:2.0
PRODID:-//ChamberMaster//Event Calendar 2.0//EN
METHOD:PUBLISH
X-PUBLISHED-TTL:P3D
REFRESH-INTERVAL:P3D
CALSCALE:GREGORIAN
BEGIN:VEVENT
DTSTART:20091110T233000Z
DTEND:20091111T020000Z
X-MICROSOFT-CDO-ALLDAYEVENT:FALSE
SUMMARY:Kennedy And Coe\, LLC Ribbon Cutting/ Open House
DESCRIPTION:Open House and Cocktail Reception in celebration of their new location.\nKennedy and Coe\, LLC will also be conducting a canned food drive for the Larimer and Weld County food banks and will match donations can for can.
X-ALT-DESC;FMTTYPE=text/html:<div>Open House and Cocktail Reception in celebration of their new location.</div><div><em><br /></em></div><div><em>Kennedy and Coe\, LLC will also be conducting a canned food drive for the Larimer and Weld County food banks and will match donations can for can.</em></div>
LOCATION:6125 Sky Pond Drive\, Loveland.
UID:e.593.1890
SEQUENCE:3
DTSTAMP:20260419T190957Z
URL:https://business.loveland.org/events/details/kennedy-and-coe-llc-ribbon-cutting-open-house-11-10-2009-1890
END:VEVENT

END:VCALENDAR
