BEGIN:VCALENDAR
VERSION:2.0
PRODID:-//ChamberMaster//Event Calendar 2.0//EN
METHOD:PUBLISH
X-PUBLISHED-TTL:P3D
REFRESH-INTERVAL:P3D
CALSCALE:GREGORIAN
BEGIN:VEVENT
DTSTART;VALUE=DATE:20091110
DTEND;VALUE=DATE:20091111
TRANSP:TRANSPARENT
X-MICROSOFT-CDO-ALLDAYEVENT:TRUE
SUMMARY:Leadership Loveland - Health and Human Services Day
DESCRIPTION:This event is specific to the 2011 Class of Leadership Loveland\, fostered by the Loveland Chamber and sponsored by McKee Medical Center. If you are interested in learning more about Leadership Loveland\, please see the Loveland Chamber of Commerce's Web site.
X-ALT-DESC;FMTTYPE=text/html:<div>This event is specific to the 2011 Class of Leadership Loveland\, fostered by the Loveland Chamber and sponsored by McKee Medical Center. If you are interested in learning more about Leadership Loveland\, please see the Loveland Chamber of Commerce's Web site.</div>
LOCATION:
UID:e.593.1883
SEQUENCE:3
DTSTAMP:20260419T191118Z
URL:https://business.loveland.org/events/details/leadership-loveland-health-and-human-services-day-11-10-2009-1883
END:VEVENT

END:VCALENDAR
