BEGIN:VCALENDAR
VERSION:2.0
PRODID:-//ChamberMaster//Event Calendar 2.0//EN
METHOD:PUBLISH
X-PUBLISHED-TTL:P3D
REFRESH-INTERVAL:P3D
CALSCALE:GREGORIAN
BEGIN:VEVENT
DTSTART:20091008T233000Z
DTEND:20091009T010000Z
X-MICROSOFT-CDO-ALLDAYEVENT:FALSE
SUMMARY:Long Term Care Insurance
DESCRIPTION:Learn the in's and out's of Long Term Care Insurance. What is the right policy for you? What qualifications must you meet? Speak with the professionals and get your questions answered! Part of a five-part series focusing on your health\, wealth\, and well-being.
X-ALT-DESC;FMTTYPE=text/html:<div><br class="Apple-interchange-newline" /><span class="Apple-style-span" style="widows: 2\; text-transform: none\; text-indent: 0px\; border-collapse: separate\; font: medium 'Times New Roman'\; white-space: normal\; orphans: 2\; letter-spacing: normal\; color: rgb(0\,0\,0)\; word-spacing: 0px\; -webkit-border-horizontal-spacing: 0px\; -webkit-border-vertical-spacing: 0px\; -webkit-text-decorations-in-effect: none\; -webkit-text-size-adjust: auto\; -webkit-text-stroke-width: 0px"><span class="Apple-style-span" style="font-family: Verdana\, Arial\, sans-serif\; font-size: 11px">Learn the in&rsquo\;s and out&rsquo\;s of Long Term Care Insurance. What is the right policy for you? What qualifications must you meet? Speak with the professionals and get your questions answered! Part of a five-part series focusing on your health\, wealth\, and well-being. </span></span></div>
LOCATION:The Hillcrest\, 535 North Douglas Avenue\, Loveland.
UID:e.593.1610
SEQUENCE:3
DTSTAMP:20260419T215539Z
URL:https://business.loveland.org/events/details/long-term-care-insurance-10-08-2009-1610
END:VEVENT

END:VCALENDAR
