BEGIN:VCALENDAR
VERSION:2.0
PRODID:-//ChamberMaster//Event Calendar 2.0//EN
METHOD:PUBLISH
X-PUBLISHED-TTL:P3D
REFRESH-INTERVAL:P3D
CALSCALE:GREGORIAN
BEGIN:VEVENT
DTSTART:20091204T183000Z
DTEND:20091204T203000Z
X-MICROSOFT-CDO-ALLDAYEVENT:FALSE
SUMMARY:Loveland Chamber Web Site Training
DESCRIPTION:Want to  learn how to maximize the Loveland Chamber's Web site? Come to this training to  have your questions answered and learn how to maximize your membership with  online benefits!
X-ALT-DESC;FMTTYPE=text/html:<span class="155243021-30112009"><font size="2" face="Tahoma" color="#000080">Want to  learn how to maximize the Loveland Chamber's Web site? Come to this training to  have your questions answered and learn how to maximize your membership with  online benefits! </font></span>
LOCATION:Loveland Chamber\, 5400 Stone Creek Circle
UID:e.593.2054
SEQUENCE:3
DTSTAMP:20260419T173025Z
URL:https://business.loveland.org/events/details/loveland-chamber-web-site-training-12-04-2009-2054
END:VEVENT

END:VCALENDAR
