BEGIN:VCALENDAR
VERSION:2.0
PRODID:-//ChamberMaster//Event Calendar 2.0//EN
METHOD:PUBLISH
X-PUBLISHED-TTL:P3D
REFRESH-INTERVAL:P3D
CALSCALE:GREGORIAN
BEGIN:VEVENT
DTSTART;VALUE=DATE:20260821
DTEND;VALUE=DATE:20260823
TRANSP:TRANSPARENT
X-MICROSOFT-CDO-ALLDAYEVENT:TRUE
SUMMARY:Loveland Corn Roast Festival- SAVE THE DATE
DESCRIPTION:130TH ANNUAL LOVELAND CORN ROAST FESTIVAL
X-ALT-DESC;FMTTYPE=text/html:<div style="text-align: center\;"><strong><span style="font-size:20px\;">&nbsp\;130TH ANNUAL LOVELAND CORN ROAST FESTIVAL</span></strong></div>\n
LOCATION:
UID:e.593.25744
SEQUENCE:3
DTSTAMP:20260421T164228Z
URL:https://business.loveland.org/events/details/loveland-corn-roast-festival-save-the-date-25744
END:VEVENT

END:VCALENDAR
