BEGIN:VCALENDAR
VERSION:2.0
PRODID:-//ChamberMaster//Event Calendar 2.0//EN
METHOD:PUBLISH
X-PUBLISHED-TTL:P3D
REFRESH-INTERVAL:P3D
CALSCALE:GREGORIAN
BEGIN:VEVENT
DTSTART;VALUE=DATE:20091205
DTEND;VALUE=DATE:20091207
TRANSP:TRANSPARENT
X-MICROSOFT-CDO-ALLDAYEVENT:TRUE
SUMMARY:Loveland Lights 2009
DESCRIPTION:The Friends of the Loveland Library will once again present this popular event at the library on Dec. 5 & 6 during regular library hours.   On display visitors will find snow village and pewter ornament collections\, a model railroad\, antique holiday cards and Christmas ornaments from many nations. Children will be able to make a gingerbread house (1 pm and 3 pm on Saturday and 1:30 pm on Sunday). The Polar Express story will be read in tandem with a craft session. Children will be challenged to find the bells hidden in the library. Guests will learn about holiday traditions\, including Chanukah\, plus customs and costumes from Ecuador and Argentina. A variety of musicians and dancers will perform. A special "how-to" for adults will help participants create unique party foods for their annual holiday party. Wood carvers will demonstrate their skills. Trees decorated by the Loveland Garden Club\, Friends of the Library\, Boys & Girls Club\, and Loveland Youth Gardeners will feature unique decorations.   Available for sale will be an array of holiday baked goods\, Winter Holiday Council pewter ornaments\, holiday books\, and hand-made ornaments.   A mitten tree will welcome gifts of new mittens to be given to a local charity. A special feature will be Gingerbread Houses created by community leaders and artists.   Visitors will be asked to cast their votes for the best creation. The lavishly decorated gingerbread structures will be sold as holiday decorative pieces in a silent auction which will benefit the Friends' capital campaign to raise funds to expand and renovate the library.
X-ALT-DESC;FMTTYPE=text/html:<div><div>The Friends of the Loveland Library will once again present this popular event at the library on Dec. 5 &amp\; 6 during regular library hours.&nbsp\;&nbsp\; On display visitors will find snow village and pewter ornament collections\, a model railroad\, antique holiday cards and Christmas ornaments from many nations.&nbsp\;Children will be able to make a gingerbread house (1 pm and 3 pm on Saturday and 1:30 pm on Sunday).&nbsp\;<i>The Polar Express </i>story will be read in tandem with a craft session.&nbsp\;Children will be challenged to find the bells hidden in the library.&nbsp\;Guests will learn about holiday traditions\, including Chanukah\, plus customs and costumes from Ecuador and Argentina.&nbsp\;A variety of musicians and dancers will perform.&nbsp\;A special &ldquo\;how-to&rdquo\; for adults will help participants create unique party foods for their annual holiday party.&nbsp\;Wood carvers will demonstrate their skills.&nbsp\;Trees decorated by the Loveland Garden Club\, Friends of the Library\, Boys &amp\; Girls Club\, and Loveland Youth Gardeners will feature unique decorations.&nbsp\;&nbsp\; Available for sale will be an array of holiday baked goods\, Winter Holiday Council pewter ornaments\, holiday books\, and hand-made ornaments.&nbsp\;&nbsp\; A mitten tree will welcome gifts of new mittens to be given to a local charity.</div><div>&nbsp\;</div><div>A special feature will be Gingerbread Houses created by community leaders and artists.&nbsp\;&nbsp\; Visitors will be asked to cast their votes for the best creation.&nbsp\;The lavishly decorated gingerbread structures will be sold as holiday decorative pieces in a silent auction which will benefit the Friends&rsquo\; capital campaign to raise funds to expand and renovate the library.&nbsp\;&nbsp\;</div></div>
LOCATION:Loveland Public Library300 N Adams\, Loveland\, CO\, 80537
UID:e.593.2050
SEQUENCE:3
DTSTAMP:20260419T173221Z
URL:https://business.loveland.org/events/details/loveland-lights-2009-12-05-2009-2050
END:VEVENT

END:VCALENDAR
