BEGIN:VCALENDAR
VERSION:2.0
PRODID:-//ChamberMaster//Event Calendar 2.0//EN
METHOD:PUBLISH
X-PUBLISHED-TTL:P3D
REFRESH-INTERVAL:P3D
CALSCALE:GREGORIAN
BEGIN:VEVENT
DTSTART:20100223T023000Z
DTEND:20100223T040000Z
X-MICROSOFT-CDO-ALLDAYEVENT:FALSE
SUMMARY:Loveland Performing Arts Association: Circus InCognitus
DESCRIPTION:The Loveland  Performing Arts Association will host Jamie Adkins for his presentation of  Circus InCognitus. Jamie is a one-man circus loaded  with his own creations of balancing strange articles\, tight-rope walking\, and  just plain clowning around.  This performance is a bonus program for LPAA and is  meant to astound and humor the ages from 6-96.  All those young at heart will  relate to Jamie.
X-ALT-DESC;FMTTYPE=text/html:<p class="MsoNormal" style="margin: 0in 0in 0pt\;"><strong><b><font color="#993300"><span style="color: rgb(153\, 51\, 0)\;">The <st1:city w:st="on"><st1:place w:st="on">Loveland</st1:place></st1:city>  Performing Arts Association will host Jamie Adkins&nbsp\;for his presentation of  Circus InCognitus. Jamie is a one-man circus loaded  with his own creations of balancing strange articles\, tight-rope walking\, and  just plain clowning around.&nbsp\; This performance is a bonus program for LPAA and is  meant to astound and humor&nbsp\;the ages from&nbsp\;6-96.&nbsp\; All those young at heart will  relate to Jamie. </span></font></b></strong><font size="2" face="Arial" color="#993300"><span style="font-size: 10pt\; color: rgb(153\, 51\, 0)\; font-family: Arial\;"><o:p></o:p></span></font></p>
LOCATION:Thompson Valley High School
UID:e.593.2524
SEQUENCE:3
DTSTAMP:20260419T143822Z
URL:https://business.loveland.org/events/details/loveland-performing-arts-association-circus-incognitus-02-22-2010-2524
END:VEVENT

END:VCALENDAR
