BEGIN:VCALENDAR
VERSION:2.0
PRODID:-//ChamberMaster//Event Calendar 2.0//EN
METHOD:PUBLISH
X-PUBLISHED-TTL:P3D
REFRESH-INTERVAL:P3D
CALSCALE:GREGORIAN
BEGIN:VEVENT
DTSTART:20100323T223000Z
DTEND:20100324T000000Z
X-MICROSOFT-CDO-ALLDAYEVENT:FALSE
SUMMARY:Loveland SBDC Class: E-Marketing?do you have a strong web presence?
DESCRIPTION:Customers and clients\, both  current and potential\, expect you have a web presence. If you don't\, then this  class is for you.
X-ALT-DESC;FMTTYPE=text/html:<p style="margin-bottom: 0pt\; line-height: normal\;" class="MsoNormal"><font size="3" face="Calibri"><span style="font-size: 12pt\;">Customers and clients\, both  current and potential\, expect you have a web presence. If you don&rsquo\;t\, then this  class is for you.<o:p></o:p></span></font><font size="3" face="Calibri"><span style="font-size: 12pt\; line-height: 115%\;"><o:p></o:p></span></font></p>  <p style="margin-bottom: 0pt\;" class="MsoNormal"><font size="3" face="Calibri"><span style="font-size: 12pt\; line-height: 115%\;"><o:p>&nbsp\;</o:p></span></font></p>
LOCATION:Loveland Workshops are held at the Loveland SBDC office\, 441 E. 4th Street\, Suite 101a\, Loveland\, CO 80537
UID:e.593.2730
SEQUENCE:3
DTSTAMP:20260419T125901Z
URL:https://business.loveland.org/events/details/loveland-sbdc-class-e-marketing-do-you-have-a-strong-web-presence-03-23-2010-2730
END:VEVENT

END:VCALENDAR
