BEGIN:VCALENDAR
VERSION:2.0
PRODID:-//ChamberMaster//Event Calendar 2.0//EN
METHOD:PUBLISH
X-PUBLISHED-TTL:P3D
REFRESH-INTERVAL:P3D
CALSCALE:GREGORIAN
BEGIN:VEVENT
DTSTART:20100308T150000Z
DTEND:20100308T170000Z
X-MICROSOFT-CDO-ALLDAYEVENT:FALSE
SUMMARY:Loveland SBDC Class: First Step for Your New Business
DESCRIPTION:This class will discuss business entity-type\, selection criteria\, along with license and sales tax information to get your business off on a strong foundation. This class is a must for start-up businesses.
X-ALT-DESC;FMTTYPE=text/html:<div>This class will discuss business entity-type\, selection criteria\, along with license and sales tax information to get your business off on a strong foundation. This class is a must for start-up businesses.</div>
LOCATION:Loveland SBDC\, 441 E. 4th Street\, Suite 101a\, Loveland\, CO 80537
UID:e.593.2438
SEQUENCE:3
DTSTAMP:20260419T143643Z
URL:https://business.loveland.org/events/details/loveland-sbdc-class-first-step-for-your-new-business-03-08-2010-2438
END:VEVENT

END:VCALENDAR
