BEGIN:VCALENDAR
VERSION:2.0
PRODID:-//ChamberMaster//Event Calendar 2.0//EN
METHOD:PUBLISH
X-PUBLISHED-TTL:P3D
REFRESH-INTERVAL:P3D
CALSCALE:GREGORIAN
BEGIN:VEVENT
DTSTART:20100220T160000Z
DTEND:20100220T230000Z
X-MICROSOFT-CDO-ALLDAYEVENT:FALSE
SUMMARY:Loveland SBDC Class: Hands-on QuickBooks
DESCRIPTION:This class covers how to manage your checkbook\, handle credit card payments\, reconciliation of accounts\, accounts payable\, accounts receivable and analyzing your financials by using reports.
X-ALT-DESC;FMTTYPE=text/html:<div>This class covers how to manage your checkbook\, handle credit card payments\, reconciliation of accounts\, accounts payable\, accounts receivable and analyzing your financials by using reports.</div>
LOCATION:Loveland SBDC\, 441 E. 4th Street\, Suite 101a\, Loveland\, CO 80537.
UID:e.593.2434
SEQUENCE:3
DTSTAMP:20260419T160249Z
URL:https://business.loveland.org/events/details/loveland-sbdc-class-hands-on-quickbooks-02-20-2010-2434
END:VEVENT

END:VCALENDAR
