BEGIN:VCALENDAR
VERSION:2.0
PRODID:-//ChamberMaster//Event Calendar 2.0//EN
METHOD:PUBLISH
X-PUBLISHED-TTL:P3D
REFRESH-INTERVAL:P3D
CALSCALE:GREGORIAN
BEGIN:VEVENT
DTSTART:20100218T170000Z
DTEND:20100218T180000Z
X-MICROSOFT-CDO-ALLDAYEVENT:FALSE
SUMMARY:Loveland SBDC Class: Intro to Lending
DESCRIPTION:We have a lender on-site\, once a month\, to provide you with concrete facts about lender requirements\, loan types\, loan application development.
X-ALT-DESC;FMTTYPE=text/html:<div>We have a lender on-site\, once a month\, to provide you with concrete facts about lender requirements\, loan types\, loan application development.&nbsp\;</div>
LOCATION:Loveland SBDC\, 441 E. 4th Street\, Suite 101a\, Loveland\, CO 80537
UID:e.593.2433
SEQUENCE:3
DTSTAMP:20260419T143612Z
URL:https://business.loveland.org/events/details/loveland-sbdc-class-intro-to-lending-02-18-2010-2433
END:VEVENT

END:VCALENDAR
