BEGIN:VCALENDAR
VERSION:2.0
PRODID:-//ChamberMaster//Event Calendar 2.0//EN
METHOD:PUBLISH
X-PUBLISHED-TTL:P3D
REFRESH-INTERVAL:P3D
CALSCALE:GREGORIAN
BEGIN:VEVENT
DTSTART:20100325T140000Z
DTEND:20100325T160000Z
X-MICROSOFT-CDO-ALLDAYEVENT:FALSE
SUMMARY:Loveland SBDC Class: Next Step\, Finding Your Market Niche
DESCRIPTION:Using available library resources\, you will learn how to determine if there is a market for your product or service\, identify your competition and discover trends in your industry.
X-ALT-DESC;FMTTYPE=text/html:<div>Using available library resources\, you will learn how to determine if there is a market for your product or service\, identify your competition and discover trends in your industry.</div>
LOCATION:Loveland SBDC\, 441 E. 4th Street\, Suite 101a\, Loveland\, CO 80537.
UID:e.593.2510
SEQUENCE:3
DTSTAMP:20260419T125825Z
URL:https://business.loveland.org/events/details/loveland-sbdc-class-next-step-finding-your-market-niche-03-25-2010-2510
END:VEVENT

END:VCALENDAR
