BEGIN:VCALENDAR
VERSION:2.0
PRODID:-//ChamberMaster//Event Calendar 2.0//EN
METHOD:PUBLISH
X-PUBLISHED-TTL:P3D
REFRESH-INTERVAL:P3D
CALSCALE:GREGORIAN
BEGIN:VEVENT
DTSTART:20100331T140000Z
DTEND:20100331T170000Z
X-MICROSOFT-CDO-ALLDAYEVENT:FALSE
SUMMARY:Loveland SBDC Class: Planning for Business Success
DESCRIPTION:Learn the key elements of a  successful business plan and why creating a business plan is an essential step  for any entrepreneur or business owner. This course will guide you in creating  your own individual business plan and provide you the tools to make it easy.
X-ALT-DESC;FMTTYPE=text/html:<p style="margin-bottom: 0pt\;" class="MsoNormal"><font size="3" face="Calibri"><span style="font-size: 12pt\;">Learn the key elements of a  successful business plan and why creating a business plan is an essential step  for any entrepreneur or business owner. This course will guide you in creating  your own individual business plan and provide you the tools to make it easy.  </span><span style="font-size: 12pt\; line-height: 115%\;"><o:p></o:p></span></font></p>
LOCATION:Loveland Workshops are held at the Loveland SBDC office\, 441 E. 4th Street\, Suite 101a\, Loveland\, CO 80537
UID:e.593.2731
SEQUENCE:3
DTSTAMP:20260419T125953Z
URL:https://business.loveland.org/events/details/loveland-sbdc-class-planning-for-business-success-03-31-2010-2731
END:VEVENT

END:VCALENDAR
