BEGIN:VCALENDAR
VERSION:2.0
PRODID:-//ChamberMaster//Event Calendar 2.0//EN
METHOD:PUBLISH
X-PUBLISHED-TTL:P3D
REFRESH-INTERVAL:P3D
CALSCALE:GREGORIAN
BEGIN:VEVENT
DTSTART:20100309T173000Z
DTEND:20100309T193000Z
X-MICROSOFT-CDO-ALLDAYEVENT:FALSE
SUMMARY:Loveland SBDC Class: Profitability Possibilities
DESCRIPTION:This class will shed light on the core factors of getting the maximum amount of profit out of your business.
X-ALT-DESC;FMTTYPE=text/html:<div>This class will shed light on the core factors of getting the maximum amount of profit out of your business.</div><br />
LOCATION:Loveland SBDC\, 441 E. 4th Street\, Suite 101a\, Loveland\, CO 80537
UID:e.593.2452
SEQUENCE:3
DTSTAMP:20260419T125825Z
URL:https://business.loveland.org/events/details/loveland-sbdc-class-profitability-possibilities-03-09-2010-2452
END:VEVENT

END:VCALENDAR
