BEGIN:VCALENDAR
VERSION:2.0
PRODID:-//ChamberMaster//Event Calendar 2.0//EN
METHOD:PUBLISH
X-PUBLISHED-TTL:P3D
REFRESH-INTERVAL:P3D
CALSCALE:GREGORIAN
BEGIN:VEVENT
DTSTART:20100324T170000Z
DTEND:20100324T180000Z
X-MICROSOFT-CDO-ALLDAYEVENT:FALSE
SUMMARY:Loveland SBDC Class: Record Keeping Realities
DESCRIPTION:This class\, taught by a CPA\, will help you learn good record keeping habits to reduce your costs and create efficiency. While record keeping is required by the IRS\, good record keeping will help you monitor the progress of your business.
X-ALT-DESC;FMTTYPE=text/html:<div>This class\, taught by a CPA\, will help you learn good record keeping habits to reduce your costs and create efficiency. While record keeping is required by the IRS\, good record keeping will help you monitor the progress of your business.</div>
LOCATION:Loveland SBDC\, 441 E. 4th Street\, Suite 101a\, Loveland\, CO 80537
UID:e.593.2499
SEQUENCE:3
DTSTAMP:20260419T125725Z
URL:https://business.loveland.org/events/details/loveland-sbdc-class-record-keeping-realities-03-24-2010-2499
END:VEVENT

END:VCALENDAR
