BEGIN:VCALENDAR
VERSION:2.0
PRODID:-//ChamberMaster//Event Calendar 2.0//EN
METHOD:PUBLISH
X-PUBLISHED-TTL:P3D
REFRESH-INTERVAL:P3D
CALSCALE:GREGORIAN
BEGIN:VEVENT
DTSTART:20100304T150000Z
DTEND:20100304T163000Z
X-MICROSOFT-CDO-ALLDAYEVENT:FALSE
SUMMARY:Loveland SBDC Class: So You Want to Start a Business
DESCRIPTION:Explore the basics of business ownership\, including entrepreneurship\, planning for a profitable business\, pitfalls to avoid and how to reach your customers.
X-ALT-DESC;FMTTYPE=text/html:<div>Explore the basics of business ownership\, including entrepreneurship\, planning for a profitable business\, pitfalls to avoid and how to reach your customers.</div>
LOCATION:Loveland SBDC\, 441 E. 4th Street\, Suite 101a\, Loveland\, CO 80537.
UID:e.593.2437
SEQUENCE:3
DTSTAMP:20260419T143837Z
URL:https://business.loveland.org/events/details/loveland-sbdc-class-so-you-want-to-start-a-business-03-04-2010-2437
END:VEVENT

END:VCALENDAR
