BEGIN:VCALENDAR
VERSION:2.0
PRODID:-//ChamberMaster//Event Calendar 2.0//EN
METHOD:PUBLISH
X-PUBLISHED-TTL:P3D
REFRESH-INTERVAL:P3D
CALSCALE:GREGORIAN
BEGIN:VEVENT
DTSTART;VALUE=DATE:20091126
DTEND;VALUE=DATE:20091127
TRANSP:TRANSPARENT
X-MICROSOFT-CDO-ALLDAYEVENT:TRUE
SUMMARY:Loveland Turkey Trot
DESCRIPTION:Normal\n  0\n  \n  \n  false\n  false\n  false\n  \n   \n   \n   \n   \n   \n  \n  MicrosoftInternetExplorer4\n \n\n \n \n\n\n\n\n /* Style Definitions */\n table.MsoNormalTable\n	{mso-style-name:"Table Normal"\;\n	mso-tstyle-rowband-size:0\;\n	mso-tstyle-colband-size:0\;\n	mso-style-noshow:yes\;\n	mso-style-parent:""\;\n	mso-padding-alt:0in 5.4pt 0in 5.4pt\;\n	mso-para-margin:0in\;\n	mso-para-margin-bottom:.0001pt\;\n	mso-pagination:widow-orphan\;\n	font-size:10.0pt\;\n	font-family:"Times New Roman"\;\n	mso-ansi-language:#0400\;\n	mso-fareast-language:#0400\;\n	mso-bidi-language:#0400\;}\n\n 5K run/ walk\; Participant Profile: 1200 Loveland individuals and families from all walks of life who value fitness before feast. The 2009 Loveland Turkey Trot benefits the Banner Simulation System at McKee Medical Center\, increasing patient safety and care.
X-ALT-DESC;FMTTYPE=text/html:<div><meta content="text/html\; charset=utf-8" http-equiv="Content-Type"><meta content="Word.Document" name="ProgId"><meta content="Microsoft Word 11" name="Generator"><meta content="Microsoft Word 11" name="Originator"><link href="file:///C:\\DOCUME~1\\Intern\\LOCALS~1\\Temp\\msohtml1\\01\\clip_filelist.xml" rel="File-List" /><!--[if gte mso 9]><xml>\n <w:WordDocument>\n  <w:View>Normal</w:View>\n  <w:Zoom>0</w:Zoom>\n  <w:PunctuationKerning />\n  <w:ValidateAgainstSchemas />\n  <w:SaveIfXMLInvalid>false</w:SaveIfXMLInvalid>\n  <w:IgnoreMixedContent>false</w:IgnoreMixedContent>\n  <w:AlwaysShowPlaceholderText>false</w:AlwaysShowPlaceholderText>\n  <w:Compatibility>\n   <w:BreakWrappedTables />\n   <w:SnapToGridInCell />\n   <w:WrapTextWithPunct />\n   <w:UseAsianBreakRules />\n   <w:DontGrowAutofit />\n  </w:Compatibility>\n  <w:BrowserLevel>MicrosoftInternetExplorer4</w:BrowserLevel>\n </w:WordDocument>\n</xml><![endif]--><!--[if gte mso 9]><xml>\n <w:LatentStyles DefLockedState="false" LatentStyleCount="156">\n </w:LatentStyles>\n</xml><![endif]--><style type="text/css">\n<!--\n /* Font Definitions */\n @font-face\n	{font-family:Verdana\;\n	panose-1:2 11 6 4 3 5 4 4 2 4\;\n	mso-font-charset:0\;\n	mso-generic-font-family:swiss\;\n	mso-font-pitch:variable\;\n	mso-font-signature:536871559 0 0 0 415 0\;}\n /* Style Definitions */\n p.MsoNormal\, li.MsoNormal\, div.MsoNormal\n	{mso-style-parent:""\;\n	margin:0in\;\n	margin-bottom:.0001pt\;\n	mso-pagination:widow-orphan\;\n	font-size:10.0pt\;\n	mso-bidi-font-size:12.0pt\;\n	font-family:Verdana\;\n	mso-fareast-font-family:"Times New Roman"\;\n	mso-bidi-font-family:"Times New Roman"\;}\n@page Section1\n	{size:8.5in 11.0in\;\n	margin:1.0in 1.25in 1.0in 1.25in\;\n	mso-header-margin:.5in\;\n	mso-footer-margin:.5in\;\n	mso-paper-source:0\;}\ndiv.Section1\n	{page:Section1\;}\n-->\n</style><!--[if gte mso 10]>\n<style>\n /* Style Definitions */\n table.MsoNormalTable\n	{mso-style-name:"Table Normal"\;\n	mso-tstyle-rowband-size:0\;\n	mso-tstyle-colband-size:0\;\n	mso-style-noshow:yes\;\n	mso-style-parent:""\;\n	mso-padding-alt:0in 5.4pt 0in 5.4pt\;\n	mso-para-margin:0in\;\n	mso-para-margin-bottom:.0001pt\;\n	mso-pagination:widow-orphan\;\n	font-size:10.0pt\;\n	font-family:"Times New Roman"\;\n	mso-ansi-language:#0400\;\n	mso-fareast-language:#0400\;\n	mso-bidi-language:#0400\;}\n</style>\n<![endif]--><span style="font-size: 8.5pt\; font-family: Verdana\; color: black\;"> </span><span style="font-size: 8.5pt\; font-family: Verdana\; color: black\;">5K run/ walk\; </span><meta content="text/html\; charset=utf-8" http-equiv="Content-Type"><meta content="Word.Document" name="ProgId"><meta content="Microsoft Word 11" name="Generator"><meta content="Microsoft Word 11" name="Originator"><span style="font-size: 8.5pt\; font-family: Verdana\; color: black\;">Participant Profile: 1200 Loveland individuals and families from all walks of life who value fitness before feast. The 2009 Loveland Turkey Trot benefits the Banner Simulation System at McKee Medical Center\, increasing patient safety and care. </span></meta></meta></meta></meta></meta></meta></meta></meta></div>
LOCATION:The run starts and ends at McKee Medical Center.
UID:e.593.1628
SEQUENCE:3
DTSTAMP:20260419T203427Z
URL:https://business.loveland.org/events/details/loveland-turkey-trot-11-26-2009-1628
END:VEVENT

END:VCALENDAR
