BEGIN:VCALENDAR
VERSION:2.0
PRODID:-//ChamberMaster//Event Calendar 2.0//EN
METHOD:PUBLISH
X-PUBLISHED-TTL:P3D
REFRESH-INTERVAL:P3D
CALSCALE:GREGORIAN
BEGIN:VEVENT
DTSTART:20251127T150000Z
DTEND:20251127T170000Z
X-MICROSOFT-CDO-ALLDAYEVENT:FALSE
SUMMARY:Loveland Turkey Trot
DESCRIPTION:Loveland Turkey Trot   24th Annual Family-Friendly 5K\n\n\n\nTrot First\, Turkey Later! Gobble up some fun this Thanksgiving at the Loveland Turkey Trot\, a cherished holiday tradition now in its 24th year! Whether you're a speedy turkey or more of a relaxed pilgrim\, this family-friendly 5K invites everyone to run\, walk\, or trot along a beautiful\, scenic course that showcases Loveland at its finest. Lace up your sneakers\, bring the whole flock\, and enjoy a morning of laughter\, fresh air\, and seasonal cheer because nothing says Thanksgiving like stuffing your day with fun and finishing with a feathered flourish!
X-ALT-DESC;FMTTYPE=text/html:<strong>Loveland Turkey Trot &ndash\; 24th Annual Family-Friendly 5K</strong><br />\n<br />\n<strong>Trot First\, Turkey Later!&nbsp\;</strong>Gobble up some fun this Thanksgiving at the <strong>Loveland Turkey Trot</strong>\, a cherished holiday tradition now in its <strong>24th year</strong>! Whether you&rsquo\;re a speedy turkey or more of a relaxed pilgrim\, this <strong>family-friendly 5K</strong> invites everyone to <strong>run\, walk\, or trot</strong> along a <strong>beautiful\, scenic course</strong> that showcases Loveland at its finest. Lace up your sneakers\, bring the whole flock\, and enjoy a morning of laughter\, fresh air\, and seasonal cheer&mdash\;because nothing says Thanksgiving like <strong>stuffing your day with fun and finishing with a feathered flourish</strong>!
LOCATION:McKee Medical Center 2000 N Boise Ave Loveland\, CO 80538
UID:e.593.25118
SEQUENCE:3
DTSTAMP:20260420T211142Z
URL:https://business.loveland.org/events/details/loveland-turkey-trot-11-27-2025-25118
END:VEVENT

END:VCALENDAR
