BEGIN:VCALENDAR
VERSION:2.0
PRODID:-//ChamberMaster//Event Calendar 2.0//EN
METHOD:PUBLISH
X-PUBLISHED-TTL:P3D
REFRESH-INTERVAL:P3D
CALSCALE:GREGORIAN
BEGIN:VEVENT
DTSTART:20100224T183000Z
DTEND:20100224T203000Z
X-MICROSOFT-CDO-ALLDAYEVENT:FALSE
SUMMARY:Loveland365 Meeting
DESCRIPTION:You are invited.  The purpose is to  brainstorm on ideas for writing and ideas for photography for the Loveland 365 book. We will  have a list of proposed topics to discuss and to assign to those interested.    As someone who has indicated a willingness to contribute\, we are inviting you.  Coffee is on us and lunch is available at the Mandolin Caf . Thank you for your interest and  participation.
X-ALT-DESC;FMTTYPE=text/html:<p class="MsoNormal"><font size="2" face="Arial"><span style="font-size: 10pt\; font-family: Arial\;">You are invited. &nbsp\;The purpose is to  brainstorm on ideas for writing and ideas for photography for the <st1:city w:st="on"><st1:place w:st="on">Loveland</st1:place></st1:city> 365 book. We will  have a list of proposed topics to discuss and to assign to those interested.  &nbsp\;&nbsp\;As someone who has indicated a willingness to contribute\, we are inviting you.&nbsp\; Coffee is on us and lunch is available at the Mandolin Caf&eacute\;. Thank you for your interest and  participation.</span></font><font size="2" face="Arial"><span style="font-size: 10pt\; font-family: Arial\;"><o:p> <br /></o:p></span></font></p>
LOCATION:Mandolin Caf in downtown Loveland at 210 East 4th Street
UID:e.593.2721
SEQUENCE:3
DTSTAMP:20260419T143624Z
URL:https://business.loveland.org/events/details/loveland365-meeting-02-24-2010-2721
END:VEVENT

END:VCALENDAR
