BEGIN:VCALENDAR
VERSION:2.0
PRODID:-//ChamberMaster//Event Calendar 2.0//EN
METHOD:PUBLISH
X-PUBLISHED-TTL:P3D
REFRESH-INTERVAL:P3D
CALSCALE:GREGORIAN
BEGIN:VEVENT
DTSTART:20260227T150000Z
DTEND:20260227T163000Z
X-MICROSOFT-CDO-ALLDAYEVENT:FALSE
SUMMARY:Made In Loveland | SBDC Hosts Morning Mugs
DESCRIPTION:Are you a small-business owner looking for a supportive space to talk through ideas\, challenges\, and wins with others who understand the journey? Join us for Morning Mugs\, a casual\, conversation-driven meet-up designed to help you learn\, share\, and grow alongside fellow entrepreneurs. You'll have the chance to exchange insights with other business owners\, hear what's working for them\, and explore helpful resources available through the SBDC.\n\nWhy join us:\n\n\n	Connect with other small-business owners in a relaxed\, low-pressure setting\n	Hear real experiences and practical tips from peers\n	Strengthen your confidence in talking about your business\n	Gain perspective\, encouragement\, and fresh ideas\n	Stay informed about tools and trends that can support your growth
X-ALT-DESC;FMTTYPE=text/html:<p>Are you a small-business owner looking for a supportive space to talk through ideas\, challenges\, and wins with others who understand the journey? Join us for Morning Mugs\, a casual\, conversation-driven meet-up designed to help you learn\, share\, and grow alongside fellow entrepreneurs. You&rsquo\;ll have the chance to exchange insights with other business owners\, hear what&rsquo\;s working for them\, and explore helpful resources available through the SBDC.</p>\n\n<p>Why join us:</p>\n\n<ul>\n	<li>Connect with other small-business owners in a relaxed\, low-pressure setting</li>\n	<li>Hear real experiences and practical tips from peers</li>\n	<li>Strengthen your confidence in talking about your business</li>\n	<li>Gain perspective\, encouragement\, and fresh ideas</li>\n	<li>Stay informed about tools and trends that can support your growth</li>\n</ul>\n
LOCATION:desk chair workspace: 201 E 4th St. Loveland\, CO\, 80537
UID:e.593.26525
SEQUENCE:3
DTSTAMP:20260420T102904Z
URL:https://business.loveland.org/events/details/made-in-loveland-sbdc-hosts-morning-mugs-26525
END:VEVENT

END:VCALENDAR
