BEGIN:VCALENDAR
VERSION:2.0
PRODID:-//ChamberMaster//Event Calendar 2.0//EN
METHOD:PUBLISH
X-PUBLISHED-TTL:P3D
REFRESH-INTERVAL:P3D
CALSCALE:GREGORIAN
BEGIN:VEVENT
DTSTART:20091019T140000Z
DTEND:20091019T180000Z
X-MICROSOFT-CDO-ALLDAYEVENT:FALSE
SUMMARY:Make a Difference Day
DESCRIPTION:Make A Difference Day is the most encompassing national day of helping others. This year\, Larimer County celebrates its 10th Year of neighbors helping neighbors! Throughout the week of October 19th-24th thousands of Larimer County residents will join together to make a real difference in our communities. Will you be one of them? Join Hands. Lend your muscle. Volunteer. To register to volunteer for the 10th Annual Make A Difference Day event\, visit www.uwaylc.org and click on "Volunteer". Registration begins September 8
X-ALT-DESC;FMTTYPE=text/html:<div><span class="Apple-style-span" style="widows: 2\; text-transform: none\; text-indent: 0px\; border-collapse: separate\; font: medium 'Times New Roman'\; white-space: normal\; orphans: 2\; letter-spacing: normal\; color: rgb(0\,0\,0)\; word-spacing: 0px\; -webkit-border-horizontal-spacing: 0px\; -webkit-border-vertical-spacing: 0px\; -webkit-text-decorations-in-effect: none\; -webkit-text-size-adjust: auto\; -webkit-text-stroke-width: 0px"><span class="Apple-style-span" style="font-family: Verdana\, Arial\, sans-serif\; font-size: 11px">Make A Difference Day is the most encompassing national day of helping others. This year\, Larimer County celebrates its 10th Year of neighbors helping neighbors! Throughout the week of October 19th-24th thousands of Larimer County residents will join together to make a real difference in our communities. Will you be one of them? Join Hands. Lend your muscle. Volunteer. To register to volunteer for the 10th Annual Make A Difference Day event\, visit www.uwaylc.org and click on &quot\;Volunteer&quot\;. Registration begins September 8</span></span></div>
LOCATION:
UID:e.593.1614
SEQUENCE:3
DTSTAMP:20260419T202842Z
URL:https://business.loveland.org/events/details/make-a-difference-day-10-19-2009-1614
END:VEVENT

END:VCALENDAR
