BEGIN:VCALENDAR
VERSION:2.0
PRODID:-//ChamberMaster//Event Calendar 2.0//EN
METHOD:PUBLISH
X-PUBLISHED-TTL:P3D
REFRESH-INTERVAL:P3D
CALSCALE:GREGORIAN
BEGIN:VEVENT
DTSTART:20091120T180000Z
DTEND:20091120T190000Z
X-MICROSOFT-CDO-ALLDAYEVENT:FALSE
SUMMARY:Massage Heights Ribbon Cutting
DESCRIPTION:
X-ALT-DESC;FMTTYPE=text/html:
LOCATION:5865 Sky Pond Drive Suite G112\, Loveland
UID:e.593.2031
SEQUENCE:3
DTSTAMP:20260419T203308Z
URL:https://business.loveland.org/events/details/massage-heights-ribbon-cutting-11-20-2009-2031
END:VEVENT

END:VCALENDAR
