BEGIN:VCALENDAR
VERSION:2.0
PRODID:-//ChamberMaster//Event Calendar 2.0//EN
METHOD:PUBLISH
X-PUBLISHED-TTL:P3D
REFRESH-INTERVAL:P3D
CALSCALE:GREGORIAN
BEGIN:VEVENT
DTSTART:20100309T183000Z
DTEND:20100309T203000Z
X-MICROSOFT-CDO-ALLDAYEVENT:FALSE
SUMMARY:McKee Thanks
DESCRIPTION:Normal\n  0\n  \n  \n  false\n  false\n  false\n  \n   \n   \n   \n   \n   \n  \n  MicrosoftInternetExplorer4\n \n\n \n \n\n\nst1\\:*{behavior:url(#ieooui) }\n\n\n\n\n\n /* Style Definitions */\n table.MsoNormalTable\n	{mso-style-name:"Table Normal"\;\n	mso-tstyle-rowband-size:0\;\n	mso-tstyle-colband-size:0\;\n	mso-style-noshow:yes\;\n	mso-style-parent:""\;\n	mso-padding-alt:0in 5.4pt 0in 5.4pt\;\n	mso-para-margin:0in\;\n	mso-para-margin-bottom:.0001pt\;\n	mso-pagination:widow-orphan\;\n	font-size:10.0pt\;\n	font-family:"Times New Roman"\;\n	mso-ansi-language:#0400\;\n	mso-fareast-language:#0400\;\n	mso-bidi-language:#0400\;}\n\nAnnual McKee Community Health Award to be presented at McKee Thanks Event \n  Formerly known as the Thank You Loveland Luncheon\, McKee Thanks will continue in the same tradition of recognizing and thanking the Loveland community for its support of McKee  Medical Center with an evening event.   Donor generosity\, staff compassion and the strength of caring all provide excellent patient care at Loveland's community hospital.  Inspiring stories of caring\, compassion and life-changing experiences will be shared and the annual McKee Community Health Award\, presented by the McKee Medical Center Foundation\, will be presented.     The McKee Community Health Award will honor one individual that has contributed to the overall health and wellness of the Loveland community either through direct care or volunteer service in the Loveland health care field.  A complete nomination and informational form is available at McKeeFoundation.com. Deadline for nominations is Feb. 12.
X-ALT-DESC;FMTTYPE=text/html:<div><meta http-equiv="Content-Type" content="text/html\; charset=utf-8"><meta name="ProgId" content="Word.Document"><meta name="Generator" content="Microsoft Word 11"><meta name="Originator" content="Microsoft Word 11"><link rel="File-List" href="file:///C:%5CDOCUME%7E1%5CINTERN%7E1.LOV%5CLOCALS%7E1%5CTemp%5Cmsohtml1%5C03%5Cclip_filelist.xml" /><o:smarttagtype namespaceuri="urn:schemas-microsoft-com:office:smarttags" name="City"></o:smarttagtype><o:smarttagtype namespaceuri="urn:schemas-microsoft-com:office:smarttags" name="place"></o:smarttagtype><o:smarttagtype namespaceuri="urn:schemas-microsoft-com:office:smarttags" name="PlaceType"></o:smarttagtype><o:smarttagtype namespaceuri="urn:schemas-microsoft-com:office:smarttags" name="PlaceName"></o:smarttagtype><!--[if gte mso 9]><xml>\n <w:WordDocument>\n  <w:View>Normal</w:View>\n  <w:Zoom>0</w:Zoom>\n  <w:PunctuationKerning />\n  <w:ValidateAgainstSchemas />\n  <w:SaveIfXMLInvalid>false</w:SaveIfXMLInvalid>\n  <w:IgnoreMixedContent>false</w:IgnoreMixedContent>\n  <w:AlwaysShowPlaceholderText>false</w:AlwaysShowPlaceholderText>\n  <w:Compatibility>\n   <w:BreakWrappedTables />\n   <w:SnapToGridInCell />\n   <w:WrapTextWithPunct />\n   <w:UseAsianBreakRules />\n   <w:DontGrowAutofit />\n  </w:Compatibility>\n  <w:BrowserLevel>MicrosoftInternetExplorer4</w:BrowserLevel>\n </w:WordDocument>\n</xml><![endif]--><!--[if gte mso 9]><xml>\n <w:LatentStyles DefLockedState="false" LatentStyleCount="156">\n </w:LatentStyles>\n</xml><![endif]--><!--[if !mso]><object\n classid="clsid:38481807-CA0E-42D2-BF39-B33AF135CC4D" id=ieooui></object>\n<style>\nst1\\:*{behavior:url(#ieooui) }\n</style>\n<![endif]--><style type="text/css">\n<!--\n /* Style Definitions */\n p.MsoNormal\, li.MsoNormal\, div.MsoNormal\n	{mso-style-parent:""\;\n	margin:0in\;\n	margin-bottom:.0001pt\;\n	mso-pagination:widow-orphan\;\n	font-size:12.0pt\;\n	font-family:"Times New Roman"\;\n	mso-fareast-font-family:"Times New Roman"\;}\n@page Section1\n	{size:8.5in 11.0in\;\n	margin:1.0in 1.25in 1.0in 1.25in\;\n	mso-header-margin:.5in\;\n	mso-footer-margin:.5in\;\n	mso-paper-source:0\;}\ndiv.Section1\n	{page:Section1\;}\n-->\n</style><!--[if gte mso 10]>\n<style>\n /* Style Definitions */\n table.MsoNormalTable\n	{mso-style-name:"Table Normal"\;\n	mso-tstyle-rowband-size:0\;\n	mso-tstyle-colband-size:0\;\n	mso-style-noshow:yes\;\n	mso-style-parent:""\;\n	mso-padding-alt:0in 5.4pt 0in 5.4pt\;\n	mso-para-margin:0in\;\n	mso-para-margin-bottom:.0001pt\;\n	mso-pagination:widow-orphan\;\n	font-size:10.0pt\;\n	font-family:"Times New Roman"\;\n	mso-ansi-language:#0400\;\n	mso-fareast-language:#0400\;\n	mso-bidi-language:#0400\;}\n</style>\n<![endif]--></meta></meta></meta></meta><b style="">Annual McKee Community Health Award to be presented at <i style="">McKee Thanks</i> Event</b><b style=""><span style="font-size: 10pt\;"><o:p> <br /></o:p></span></b></div>  <p class="MsoNormal" style="line-height: 18pt\;">Formerly known as the <i style="">Thank You Loveland Luncheon</i>\, <i style="">McKee Thanks</i> will continue in the same tradition of recognizing and thanking the <st1:city w:st="on">Loveland</st1:city> community for its support of <st1:place w:st="on"><st1:placename w:st="on">McKee</st1:placename>  <st1:placename w:st="on">Medical</st1:placename> <st1:placetype w:st="on">Center</st1:placetype></st1:place> with an evening event.</p>  <p class="MsoNormal" style="line-height: 18pt\;"><o:p>&nbsp\;</o:p>Donor generosity\, staff compassion and the strength of caring all provide excellent patient care at <st1:city w:st="on"><st1:place w:st="on">Loveland</st1:place></st1:city>&rsquo\;s community hospital.<span style="">&nbsp\; </span>Inspiring stories of caring\, compassion and life-changing experiences will be shared and the annual McKee Community Health Award\, presented by the McKee Medical Center Foundation\, will be presented.</p>    <p class="MsoNormal" style="line-height: 18pt\;"><o:p>&nbsp\;</o:p>The McKee Community Health Award will honor one individual that has contributed to the overall health and wellness of the <st1:city w:st="on">Loveland</st1:city> community either through direct care or volunteer service in the <st1:city w:st="on"><st1:place w:st="on">Loveland</st1:place></st1:city> health care field.<span style="">&nbsp\; </span>A complete nomination and informational form is available at McKeeFoundation.com. Deadline for nominations is Feb. 12.</p>
LOCATION:Normal 0 false false false MicrosoftInternetExplorer4 st1\\:*{behavior:url(#ieooui) } /* Style Definitions */ table.MsoNormalTable {mso-style-name:"Table Normal"\; mso-tstyle-rowband-size:0\; mso-tstyle-colband-size:0\; mso-style-noshow:yes\; mso-style-parent:""\; mso-padding-alt:0in 5.4pt 0in 5.4pt\; mso-para-margin:0in\; mso-para-margin-bottom:.0001pt\; mso-pagination:widow-orphan\; font-size:10.0pt\; font-family:"Times New Roman"\; mso-ansi-language:#0400\; mso-fareast-language:#0400\; mso-bidi-language:#0400\;} McKee Conference and Wellness Center
UID:e.593.2075
SEQUENCE:3
DTSTAMP:20260419T125619Z
URL:https://business.loveland.org/events/details/mckee-thanks-03-09-2010-2075
END:VEVENT

END:VCALENDAR
