BEGIN:VCALENDAR
VERSION:2.0
PRODID:-//ChamberMaster//Event Calendar 2.0//EN
METHOD:PUBLISH
X-PUBLISHED-TTL:P3D
REFRESH-INTERVAL:P3D
CALSCALE:GREGORIAN
BEGIN:VEVENT
DTSTART:20100326T140000Z
DTEND:20100326T170000Z
X-MICROSOFT-CDO-ALLDAYEVENT:FALSE
SUMMARY:Member Orientation - 03/26/10
DESCRIPTION:Maximize your Chamber Investment! Have you received the most out of your Loveland Chamber investment? Find out how to maximize this resource on March 26th for our Member Orientation. The Loveland Chamber of Commerce presents the Avenues for Success   Maximizing Your Chamber Investment\, a membership orientation and fair held from 8:00   11:00 a.m. on Friday\, March 26. Here\, you will learn how to get the most out of your investment   from networking\, events\, advocacy\, discounts you can receive for just being a member   we will showcase it all! The Loveland Chamber is your 'driving force for business' and is here to help you and your business excel.
X-ALT-DESC;FMTTYPE=text/html:<div><div><big><span style="color: #0000ff">Maximize your Chamber Investment!</span></big></div><div>&nbsp\;</div><div>Have you received the most out of your Loveland Chamber investment? Find out how to maximize this resource on March 26<sup>th</sup> for our Member Orientation.</div><div>&nbsp\;</div><div>The Loveland Chamber of Commerce presents the Avenues for Success &ndash\; Maximizing Your Chamber Investment\, a membership orientation and fair held from 8:00 &ndash\; 11:00 a.m. on Friday\, March 26<sup>. </sup>Here\, you will learn how to get the most out of your investment &ndash\; from networking\, events\, advocacy\, discounts you can receive for just being a member &ndash\; we will showcase it all!</div><div>&nbsp\;</div><div>The Loveland Chamber is your &lsquo\;driving force for business&rsquo\; and is here to help you and your business excel.</div></div>
LOCATION:Loveland Chamber of Commerce5400 Stone Creek CircleLoveland\, CO 80538
UID:e.593.2553
SEQUENCE:3
DTSTAMP:20260419T125748Z
URL:https://business.loveland.org/events/details/member-orientation-03-26-10-03-26-2010-2553
END:VEVENT

END:VCALENDAR
