BEGIN:VCALENDAR
VERSION:2.0
PRODID:-//ChamberMaster//Event Calendar 2.0//EN
METHOD:PUBLISH
X-PUBLISHED-TTL:P3D
REFRESH-INTERVAL:P3D
CALSCALE:GREGORIAN
BEGIN:VEVENT
DTSTART:20100208T143000Z
DTEND:20100208T160000Z
X-MICROSOFT-CDO-ALLDAYEVENT:FALSE
SUMMARY:Monday Morning Meeting with Northern Colorado Legislators
DESCRIPTION:Join the Northern Colorado  Legislative Alliance (NCLA) for the February 8 Monday Morning Meeting with  Northern Colorado Legislators\, an event that brings your legislators to you.      At this meeting\, the NCLA will  brief attendees about the legislative session to-date and ask state lawmakers  and other guests to update attendees on legislative action taking place on  important business-related issues being discussed at the State Capitol.  Look  for the event topics to be announced next week\, along with a list confirmed  guest speakers.   Staff from Colorado's Congressional  delegation will also join the group to discuss what is happing at the federal  level.
X-ALT-DESC;FMTTYPE=text/html:<p class="MsoNormal"><font size="2" face="Georgia"><span lang="EN" style="font-size: 11pt\; font-family: Georgia\;">Join the Northern Colorado  Legislative Alliance (NCLA) for the February 8 Monday Morning Meeting with  Northern Colorado Legislators\, an event that brings your legislators to you.&nbsp\;  <o:p></o:p></span></font></p> <p class="MsoNormal"><font size="2" face="Georgia"><span lang="EN" style="font-size: 11pt\; font-family: Georgia\;"><o:p>&nbsp\;</o:p></span></font></p> <p class="MsoNormal"><font size="2" face="Georgia"><span style="font-size: 11pt\; font-family: Georgia\;">At this meeting\, the NCLA will  brief attendees about the legislative session to-date and ask state lawmakers  and other guests to update attendees on legislative action taking place on  important business-related issues being discussed at the State Capitol.&nbsp\; Look  for the event topics to be announced next week\, along with a list confirmed  guest speakers.<o:p></o:p></span></font></p> <p class="MsoNormal"><font size="2" face="Georgia"><span style="font-size: 11pt\; font-family: Georgia\;"><o:p>&nbsp\;</o:p></span></font></p> <p class="MsoNormal"><font size="2" face="Georgia"><span style="font-size: 11pt\; font-family: Georgia\;">Staff from <st1:place w:st="on"><st1:state w:st="on">Colorado</st1:state></st1:place>&rsquo\;s Congressional  delegation will also join the group to discuss what is happing at the federal  level.<o:p></o:p></span></font></p>
LOCATION:Fort Collins Chamber of Commerce\,221 South Meldrum Street
UID:e.593.2416
SEQUENCE:3
DTSTAMP:20260419T160635Z
URL:https://business.loveland.org/events/details/monday-morning-meeting-with-northern-colorado-legislators-02-08-2010-2416
END:VEVENT

END:VCALENDAR
