BEGIN:VCALENDAR
VERSION:2.0
PRODID:-//ChamberMaster//Event Calendar 2.0//EN
METHOD:PUBLISH
X-PUBLISHED-TTL:P3D
REFRESH-INTERVAL:P3D
CALSCALE:GREGORIAN
BEGIN:VEVENT
DTSTART:20091127T050000Z
DTEND:20091128T040000Z
X-MICROSOFT-CDO-ALLDAYEVENT:FALSE
SUMMARY:Moonlight Madness
DESCRIPTION:Normal\n  0\n  \n  \n  false\n  false\n  false\n  \n   \n   \n   \n   \n   \n  \n  MicrosoftInternetExplorer4\n \n\n \n \n\n\nst1\\:*{behavior:url(#ieooui) }\n\n\n\n\n\n /* Style Definitions */\n table.MsoNormalTable\n	{mso-style-name:"Table Normal"\;\n	mso-tstyle-rowband-size:0\;\n	mso-tstyle-colband-size:0\;\n	mso-style-noshow:yes\;\n	mso-style-parent:""\;\n	mso-padding-alt:0in 5.4pt 0in 5.4pt\;\n	mso-para-margin:0in\;\n	mso-para-margin-bottom:.0001pt\;\n	mso-pagination:widow-orphan\;\n	font-size:10.0pt\;\n	font-family:"Times New Roman"\;\n	mso-ansi-language:#0400\;\n	mso-fareast-language:#0400\;\n	mso-bidi-language:#0400\;}\n\nShop early for the Holidays!       Outlets at Loveland       opens up Thanksgiving Night at 10pm! Special Offers from 10pm-midnight!       Come early for the freebies\, stay for the great deals on Christmas gifts!       Outlets at Loveland       will remain open until Friday\, Nov 27th at 9pm! 23 straight       hours of savings- can't beat that!!
X-ALT-DESC;FMTTYPE=text/html:<div><meta content="text/html\; charset=utf-8" http-equiv="Content-Type" /><meta content="Word.Document" name="ProgId" /><meta content="Microsoft Word 11" name="Generator" /><meta content="Microsoft Word 11" name="Originator" /><link href="file:///C:\\DOCUME~1\\Intern\\LOCALS~1\\Temp\\msohtml1\\01\\clip_filelist.xml" rel="File-List" /><o:smarttagtype name="place" namespaceuri="urn:schemas-microsoft-com:office:smarttags"></o:smarttagtype><o:smarttagtype name="City" namespaceuri="urn:schemas-microsoft-com:office:smarttags"></o:smarttagtype><!--[if gte mso 9]><xml>\n <w:WordDocument>\n  <w:View>Normal</w:View>\n  <w:Zoom>0</w:Zoom>\n  <w:PunctuationKerning />\n  <w:ValidateAgainstSchemas />\n  <w:SaveIfXMLInvalid>false</w:SaveIfXMLInvalid>\n  <w:IgnoreMixedContent>false</w:IgnoreMixedContent>\n  <w:AlwaysShowPlaceholderText>false</w:AlwaysShowPlaceholderText>\n  <w:Compatibility>\n   <w:BreakWrappedTables />\n   <w:SnapToGridInCell />\n   <w:WrapTextWithPunct />\n   <w:UseAsianBreakRules />\n   <w:DontGrowAutofit />\n  </w:Compatibility>\n  <w:BrowserLevel>MicrosoftInternetExplorer4</w:BrowserLevel>\n </w:WordDocument>\n</xml><![endif]--><!--[if gte mso 9]><xml>\n <w:LatentStyles DefLockedState="false" LatentStyleCount="156">\n </w:LatentStyles>\n</xml><![endif]--><!--[if !mso]><object\n classid="clsid:38481807-CA0E-42D2-BF39-B33AF135CC4D" id=ieooui></object>\n<style>\nst1\\:*{behavior:url(#ieooui) }\n</style>\n<![endif]--><style type="text/css">\n<!--\n /* Style Definitions */\n p.MsoNormal\, li.MsoNormal\, div.MsoNormal\n	{mso-style-parent:""\;\n	margin:0in\;\n	margin-bottom:.0001pt\;\n	mso-pagination:widow-orphan\;\n	font-size:12.0pt\;\n	font-family:"Times New Roman"\;\n	mso-fareast-font-family:"Times New Roman"\;}\n@page Section1\n	{size:8.5in 11.0in\;\n	margin:1.0in 1.25in 1.0in 1.25in\;\n	mso-header-margin:.5in\;\n	mso-footer-margin:.5in\;\n	mso-paper-source:0\;}\ndiv.Section1\n	{page:Section1\;}\n /* List Definitions */\n @list l0\n	{mso-list-id:1404327325\;\n	mso-list-type:hybrid\;\n	mso-list-template-ids:2008424924 67698689 67698691 67698693 67698689 67698691 67698693 67698689 67698691 67698693\;}\n@list l0:level1\n	{mso-level-number-format:bullet\;\n	mso-level-text:ï?·\;\n	mso-level-tab-stop:.5in\;\n	mso-level-number-position:left\;\n	text-indent:-.25in\;\n	font-family:Symbol\;}\n@list l0:level2\n	{mso-level-number-format:bullet\;\n	mso-level-text:o\;\n	mso-level-tab-stop:1.0in\;\n	mso-level-number-position:left\;\n	text-indent:-.25in\;\n	font-family:"Courier New"\;}\n@list l0:level3\n	{mso-level-tab-stop:1.5in\;\n	mso-level-number-position:left\;\n	text-indent:-.25in\;}\n@list l0:level4\n	{mso-level-tab-stop:2.0in\;\n	mso-level-number-position:left\;\n	text-indent:-.25in\;}\n@list l0:level5\n	{mso-level-tab-stop:2.5in\;\n	mso-level-number-position:left\;\n	text-indent:-.25in\;}\n@list l0:level6\n	{mso-level-tab-stop:3.0in\;\n	mso-level-number-position:left\;\n	text-indent:-.25in\;}\n@list l0:level7\n	{mso-level-tab-stop:3.5in\;\n	mso-level-number-position:left\;\n	text-indent:-.25in\;}\n@list l0:level8\n	{mso-level-tab-stop:4.0in\;\n	mso-level-number-position:left\;\n	text-indent:-.25in\;}\n@list l0:level9\n	{mso-level-tab-stop:4.5in\;\n	mso-level-number-position:left\;\n	text-indent:-.25in\;}\nol\n	{margin-bottom:0in\;}\nul\n	{margin-bottom:0in\;}\n-->\n</style><!--[if gte mso 10]>\n<style>\n /* Style Definitions */\n table.MsoNormalTable\n	{mso-style-name:"Table Normal"\;\n	mso-tstyle-rowband-size:0\;\n	mso-tstyle-colband-size:0\;\n	mso-style-noshow:yes\;\n	mso-style-parent:""\;\n	mso-padding-alt:0in 5.4pt 0in 5.4pt\;\n	mso-para-margin:0in\;\n	mso-para-margin-bottom:.0001pt\;\n	mso-pagination:widow-orphan\;\n	font-size:10.0pt\;\n	font-family:"Times New Roman"\;\n	mso-ansi-language:#0400\;\n	mso-fareast-language:#0400\;\n	mso-bidi-language:#0400\;}\n</style>\n<![endif]--></div><div><span style="font-size: 10pt\; font-family: Arial\;">Shop early for the Holidays!       Outlets at <st1:place w:st="on"><st1:city w:st="on">Loveland</st1:city></st1:place>       opens up Thanksgiving Night at 10pm! Special Offers from 10pm-midnight!       Come early for the freebies\, stay for the great deals on Christmas gifts!       Outlets at <st1:place w:st="on"><st1:city w:st="on">Loveland</st1:city></st1:place>       will remain open until Friday\, Nov 27<sup>th</sup> at 9pm! 23 straight       hours of savings- can&rsquo\;t beat that!! <o:p></o:p></span></div>
LOCATION:
UID:e.593.8
SEQUENCE:3
DTSTAMP:20260419T190404Z
URL:https://business.loveland.org/events/details/moonlight-madness-11-26-2009-8
END:VEVENT

END:VCALENDAR
