BEGIN:VCALENDAR
VERSION:2.0
PRODID:-//ChamberMaster//Event Calendar 2.0//EN
METHOD:PUBLISH
X-PUBLISHED-TTL:P3D
REFRESH-INTERVAL:P3D
CALSCALE:GREGORIAN
BEGIN:VEVENT
DTSTART:20260227T150000Z
DTEND:20260227T163000Z
X-MICROSOFT-CDO-ALLDAYEVENT:FALSE
SUMMARY:Morning Mugs
DESCRIPTION:Are you a small-business owner looking for a supportive space to talk through ideas\, challenges\, and wins with others who understand the journey? \n\n\nJoin us for Morning Mugs-a casual\, conversation-driven meet-up designed to help you learn\, share\, and grow alongside fellow entrepreneurs. You'll have the chance to exchange insights with other business owners\, hear what's working for them\, and explore helpful resources available through the SBDC.\n\n\n\nWhy join us:\n\n\n\n	Connect with other small-business owners in a relaxed\, low-pressure setting\n	Hear real experiences and practical tips from peers\n	Strengthen your confidence in talking about your business\n	Gain perspective\, encouragement\, and fresh ideas\n	Stay informed about tools and trends that can support your growth
X-ALT-DESC;FMTTYPE=text/html:<span style="font-family:arial\,helvetica\,sans-serif"><span style="background-color:rgb(255\, 255\, 255)\; color:rgba(0\, 0\, 0\, 0.8)\; font-size:13px">Are you a small-business owner looking for a supportive space to talk through ideas\, challenges\, and wins with others who understand the journey?&nbsp\;</span></span>\n<div><br />\n<span style="font-family:arial\,helvetica\,sans-serif"><span style="color:rgba(0\, 0\, 0\, 0.8)">Join us for Morning Mugs-a casual\, conversation-driven meet-up designed to help you learn\, share\, and grow alongside fellow entrepreneurs.&nbsp\;</span><span style="color:rgba(0\, 0\, 0\, 0.8)">You&rsquo\;ll have the chance to exchange insights with other business owners\, hear what&rsquo\;s working for them\, and explore helpful resources available through the SBDC.</span><br />\n<br />\nWhy join us:</span></div>\n\n<div>\n<ul>\n	<li><span style="font-family:arial\,helvetica\,sans-serif">Connect with other small-business owners in a relaxed\, low-pressure setting</span></li>\n	<li><span style="font-family:arial\,helvetica\,sans-serif">Hear real experiences and practical tips from peers</span></li>\n	<li><span style="font-family:arial\,helvetica\,sans-serif">Strengthen your confidence in talking about your business</span></li>\n	<li><span style="font-family:arial\,helvetica\,sans-serif">Gain perspective\, encouragement\, and fresh ideas</span></li>\n	<li><span style="font-family:arial\,helvetica\,sans-serif">Stay informed about tools and trends that can support your growth</span></li>\n</ul>\n</div>\n
LOCATION:desk chair 201 E. 4th St. Loveland\, CO 80537 United States
UID:e.593.26534
SEQUENCE:3
DTSTAMP:20260420T101942Z
URL:https://business.loveland.org/events/details/morning-mugs-26534
END:VEVENT

END:VCALENDAR
