BEGIN:VCALENDAR
VERSION:2.0
PRODID:-//ChamberMaster//Event Calendar 2.0//EN
METHOD:PUBLISH
X-PUBLISHED-TTL:P3D
REFRESH-INTERVAL:P3D
CALSCALE:GREGORIAN
BEGIN:VEVENT
DTSTART:20091205T170000Z
DTEND:20091206T030000Z
X-MICROSOFT-CDO-ALLDAYEVENT:FALSE
SUMMARY:Music\, stories\, free gift wrap!
DESCRIPTION:Normal\n  0\n  \n  \n  false\n  false\n  false\n  \n   \n   \n   \n   \n   \n  \n  MicrosoftInternetExplorer4\n \n\n \n \n\n\nst1\\:*{behavior:url(#ieooui) }\n\n\n\n\n\n /* Style Definitions */\n table.MsoNormalTable\n	{mso-style-name:"Table Normal"\;\n	mso-tstyle-rowband-size:0\;\n	mso-tstyle-colband-size:0\;\n	mso-style-noshow:yes\;\n	mso-style-parent:""\;\n	mso-padding-alt:0in 5.4pt 0in 5.4pt\;\n	mso-para-margin:0in\;\n	mso-para-margin-bottom:.0001pt\;\n	mso-pagination:widow-orphan\;\n	font-size:10.0pt\;\n	font-family:"Times New Roman"\;\n	mso-ansi-language:#0400\;\n	mso-fareast-language:#0400\;\n	mso-bidi-language:#0400\;}\n\n Student elves from the Loveland  High School band program will be wrapping presents\, telling stories\, playing music and more at a book fair fundraiser. Customers can enjoy free gift wrap\, Santa\, cheesecake sampling\, story time\, crafts and live music. They may also purchase cheesecake from the Cheesecake Factory. Use of a voucher at the time of purchase will designate a percentage of purchase for the band (items that qualify: Starbucks coffee products from caf \, books\, gifts\, CDs\, games\, cards ).
X-ALT-DESC;FMTTYPE=text/html:<div><meta content="text/html\; charset=utf-8" http-equiv="Content-Type" /><meta content="Word.Document" name="ProgId" /><meta content="Microsoft Word 11" name="Generator" /><meta content="Microsoft Word 11" name="Originator" /><link href="file:///C:%5CDOCUME%7E1%5CIntern%5CLOCALS%7E1%5CTemp%5Cmsohtml1%5C01%5Cclip_filelist.xml" rel="File-List" /><o:smarttagtype name="place" namespaceuri="urn:schemas-microsoft-com:office:smarttags"></o:smarttagtype><o:smarttagtype name="PlaceType" namespaceuri="urn:schemas-microsoft-com:office:smarttags"></o:smarttagtype><o:smarttagtype name="PlaceName" namespaceuri="urn:schemas-microsoft-com:office:smarttags"></o:smarttagtype><!--[if gte mso 9]><xml>\n <w:WordDocument>\n  <w:View>Normal</w:View>\n  <w:Zoom>0</w:Zoom>\n  <w:PunctuationKerning />\n  <w:ValidateAgainstSchemas />\n  <w:SaveIfXMLInvalid>false</w:SaveIfXMLInvalid>\n  <w:IgnoreMixedContent>false</w:IgnoreMixedContent>\n  <w:AlwaysShowPlaceholderText>false</w:AlwaysShowPlaceholderText>\n  <w:Compatibility>\n   <w:BreakWrappedTables />\n   <w:SnapToGridInCell />\n   <w:WrapTextWithPunct />\n   <w:UseAsianBreakRules />\n   <w:DontGrowAutofit />\n  </w:Compatibility>\n  <w:BrowserLevel>MicrosoftInternetExplorer4</w:BrowserLevel>\n </w:WordDocument>\n</xml><![endif]--><!--[if gte mso 9]><xml>\n <w:LatentStyles DefLockedState="false" LatentStyleCount="156">\n </w:LatentStyles>\n</xml><![endif]--><!--[if !mso]><object\n classid="clsid:38481807-CA0E-42D2-BF39-B33AF135CC4D" id=ieooui></object>\n<style>\nst1\\:*{behavior:url(#ieooui) }\n</style>\n<![endif]--><style type="text/css">\n<!--\n /* Font Definitions */\n @font-face\n	{font-family:"Comic Sans MS"\;\n	panose-1:3 15 7 2 3 3 2 2 2 4\;\n	mso-font-charset:0\;\n	mso-generic-font-family:script\;\n	mso-font-pitch:variable\;\n	mso-font-signature:647 0 0 0 159 0\;}\n@font-face\n	{font-family:Georgia\;\n	panose-1:2 4 5 2 5 4 5 2 3 3\;\n	mso-font-charset:0\;\n	mso-generic-font-family:roman\;\n	mso-font-pitch:variable\;\n	mso-font-signature:647 0 0 0 159 0\;}\n /* Style Definitions */\n p.MsoNormal\, li.MsoNormal\, div.MsoNormal\n	{mso-style-parent:""\;\n	margin:0in\;\n	margin-bottom:.0001pt\;\n	mso-pagination:widow-orphan\;\n	font-size:12.0pt\;\n	font-family:Georgia\;\n	mso-fareast-font-family:"Times New Roman"\;\n	mso-bidi-font-family:"Times New Roman"\;}\n@page Section1\n	{size:8.5in 11.0in\;\n	margin:1.0in 1.25in 1.0in 1.25in\;\n	mso-header-margin:.5in\;\n	mso-footer-margin:.5in\;\n	mso-paper-source:0\;}\ndiv.Section1\n	{page:Section1\;}\n-->\n</style><!--[if gte mso 10]>\n<style>\n /* Style Definitions */\n table.MsoNormalTable\n	{mso-style-name:"Table Normal"\;\n	mso-tstyle-rowband-size:0\;\n	mso-tstyle-colband-size:0\;\n	mso-style-noshow:yes\;\n	mso-style-parent:""\;\n	mso-padding-alt:0in 5.4pt 0in 5.4pt\;\n	mso-para-margin:0in\;\n	mso-para-margin-bottom:.0001pt\;\n	mso-pagination:widow-orphan\;\n	font-size:10.0pt\;\n	font-family:"Times New Roman"\;\n	mso-ansi-language:#0400\;\n	mso-fareast-language:#0400\;\n	mso-bidi-language:#0400\;}\n</style>\n<![endif]--></div><p style="text-indent: 0.5in\;" class="MsoNormal">&nbsp\;</p><p style="text-indent: 0.5in\;" class="MsoNormal"><span style="color: black\;">Student elves from the <st1:place w:st="on"><st1:placename w:st="on">Loveland</st1:placename>  <st1:placetype w:st="on">High School</st1:placetype></st1:place> band program will be wrapping presents\, telling stories\, playing music and more at a book fair fundraiser. Customers can enjoy f</span><span style="color: black\;">ree gift wrap\, Santa\, cheesecake sampling\, story time\, crafts and live music. They may also purchase cheesecake from the Cheesecake Factory. Use of a voucher at the time of purchase will designate a percentage of purchase for the band (items that qualify: Starbucks coffee products from caf&eacute\;\, books\, gifts\, CDs\, games\, cards&hellip\;).</span><span style="color: black\;"><o:p></o:p></span></p>
LOCATION:Barnes & Noble at Centerra
UID:e.593.2052
SEQUENCE:3
DTSTAMP:20260419T173243Z
URL:https://business.loveland.org/events/details/music-stories-free-gift-wrap-12-05-2009-2052
END:VEVENT

END:VCALENDAR
