BEGIN:VCALENDAR
VERSION:2.0
PRODID:-//ChamberMaster//Event Calendar 2.0//EN
METHOD:PUBLISH
X-PUBLISHED-TTL:P3D
REFRESH-INTERVAL:P3D
CALSCALE:GREGORIAN
BEGIN:VEVENT
DTSTART:20091023T170000Z
DTEND:20091023T200000Z
X-MICROSOFT-CDO-ALLDAYEVENT:FALSE
SUMMARY:NCEDC Annual Meeting
DESCRIPTION:Northern Colorado Economic Development Corporation(NCEDC)will hold its Annual Meeting from 11 a.m. to 2 p.m. More details to come  Contact Noelle Maestas\, 970-667-0905\, nmaestas@ncedc.com
X-ALT-DESC;FMTTYPE=text/html:<div><span class="Apple-style-span" style="widows: 2\; text-transform: none\; text-indent: 0px\; border-collapse: separate\; font: medium 'Times New Roman'\; white-space: normal\; orphans: 2\; letter-spacing: normal\; color: rgb(0\,0\,0)\; word-spacing: 0px\; -webkit-border-horizontal-spacing: 0px\; -webkit-border-vertical-spacing: 0px\; -webkit-text-decorations-in-effect: none\; -webkit-text-size-adjust: auto\; -webkit-text-stroke-width: 0px"><span class="Apple-style-span" style="font-family: Verdana\, Arial\, sans-serif\; font-size: 11px">Northern Colorado Economic Development Corporation(NCEDC)will hold its Annual Meeting from 11 a.m. to 2 p.m. More details to come&hellip\; Contact Noelle Maestas\, 970-667-0905\, <a href="mailto:nmaestas@ncedc.com">nmaestas@ncedc.com</a></span></span></div>
LOCATION:
UID:e.593.1616
SEQUENCE:3
DTSTAMP:20260419T204357Z
URL:https://business.loveland.org/events/details/ncedc-annual-meeting-10-23-2009-1616
END:VEVENT

END:VCALENDAR
