BEGIN:VCALENDAR
VERSION:2.0
PRODID:-//ChamberMaster//Event Calendar 2.0//EN
METHOD:PUBLISH
X-PUBLISHED-TTL:P3D
REFRESH-INTERVAL:P3D
CALSCALE:GREGORIAN
BEGIN:VEVENT
DTSTART:20100107T143000Z
DTEND:20100107T183000Z
X-MICROSOFT-CDO-ALLDAYEVENT:FALSE
SUMMARY:NCLA Legislative Preview and Regional Issues Forum
DESCRIPTION:The NCLA to Host Legislative Preview Forum January 7Learn What to Expect in 2010 and How to Make Your Voice Heard at the Capitol The voice of business must be heard at the State Capitol in 2010.  Unprecedented reductions in Colorado's state revenues present historic challenges to our state leaders\, and critical decisions about the state's priorities present opportunities to re-assess the role of government\, develop innovative solutions to change business-as-usual as means to save critical dollars\, and to have the important debate about raising revenue or reducing spending. Learn how you can help affect the change vital to business' success in Colorado by attending the Northern Colorado Legislative Alliance's 2010 Legislative Preview taking place on Thursday\, January 7 at event host and sponsor Embassy Suites\, 4705 Clydesdale Parkway in Loveland. As in years past\, you will learn about the NCLA's priority agenda for 2010.    New this year will be panel discussions with lawmakers and other experts on the topics of fiscal policy and budget\, K-12 and higher education\, energy\, labor/workforce and health care.  A line-up of speakers and an event agenda will be sent out in the next few weeks. Attendees will also have the opportunity to dialogue with their lawmakers and the NCLA Board about specific concerns and find out how they can get involved in the legislative process throughout 2010.  The event runs from 7:30 to 11:30 a.m.\, with the doors opening at 7:15. The cost to attend is $20 per chamber/NCEDC member and $25 per non-member and includes continental breakfast.   Attendees to the revamped and expanded event will participate in interactive and engaging panels about critical state policy issues facing the northern Colorado business community. Three panels will be offered each featuring issue experts and Northern Colorado legislators.   The panels will be moderated by a member of the NCLA Board of Directors. The lineup follows. (Those not yet confirmed are noted as "invited".) 7:45-8:55          Budget and Fiscal Policy   Colorado's Economic Landscape and State of the State's Budget                        Moderator: Kermit Allard\, NCLA Board Member Natalie Mullis   Chief Economist\, Colorado LegislatureBen Curtiss-Lusher   Policy Advisor\, Governor Bill RitterRepresentative Glenn Vaad   House District 48                        Representative Jim Reisberg   House District 50                        Representative John Kefalas   House District 52                        Representative Shawn Mitchell   House District 23 (invited)                        Question and Answer Session  9:00-10:10      Education   The state of K-12 and Higher EducationModerator: Doug Lidiak\, NCLA Board Member Marsi Liddell   President\, Aims Community CollegeTony Frank   President\, Colorado State University (invited)Kay Norton   President\, University of Northern ColoradoRon Cabrera\, Thompson School District Superintendent (invited)Senator Bob Bacon   Senate District 14 Representative BJ Nikkel   House District 49Senator Scott Renfroe   Senate District 13                        Question and Answer Session  10:15-11:20     Energy   The State of Colorado's Energy Sector                        Moderator: Bill See\, NCLA Board Member Jeff Lyng   Renewable Energy Policy Manager\, Governor's Energy Office                        Jim Sims   Found and Senior Advisor\, NextGen Energy CouncilRepresentative Cory Gardner   House District 63 and 4th Congressional District Candidate                        John Jacus   Davis\, Graham and StubbsRepresentative Randy Fischer   House District 53            Senator Kevin Lundberg   Senate District 15 (invited)                        Representative Brian DelGrosso   House District 51 (invited)                        Question and Answer Session 11:30               Adjourn Congresswoman Besty Markey is also planning to attend a portion of the meeting and will update attendees on these issue areas at the federal level. The continental breakfast is taking place on Thursday\, January 7 at Embassy Suites\, event host and sponsor\, 4705 Clydesdale Parkway in Loveland from 7:30 to 11:30 a.m.\, with the doors opening at 7:15. Cost to attend is $20 for chamber and NCEDC members and $25 for non-members. Click here to register online for the Legislative Preview. Call the Loveland Chamber with registration questions at 970-667-6311. Contact Paige Oswald with questions about the event or to learn about event sponsorship opportunities at poswald@capitol-solutions.com. The NCLA is the joint public policy advocacy effort of the Fort Collins\, Greeley and Loveland Chambers of Commerce and the Northern Colorado Economic Development Corporation. Sustaining investors of the NCLA include McWhinney\, McKee Medical Center\, Woodward Governor and Qwest.
X-ALT-DESC;FMTTYPE=text/html:<div>The NCLA to Host Legislative Preview Forum January 7</div><div>Learn What to Expect in 2010 and How to Make Your Voice Heard at the Capitol</div><div>&nbsp\;</div><div>The voice of business must be heard at the State Capitol in 2010.&nbsp\; Unprecedented reductions in Colorado&rsquo\;s state revenues present historic challenges to our state leaders\, and critical decisions about the state&rsquo\;s priorities present opportunities to re-assess the role of government\, develop innovative solutions to change business-as-usual as means to save critical dollars\, and to have the important debate about raising revenue or reducing spending.</div><div>&nbsp\;</div><div>Learn how you can help affect the change vital to business&rsquo\; success in Colorado by attending the Northern Colorado Legislative Alliance&rsquo\;s 2010 Legislative Preview taking place on Thursday\, January 7 at event host and sponsor Embassy Suites\, 4705 Clydesdale Parkway in Loveland.</div><div>&nbsp\;</div><div>As in years past\, you will learn about the NCLA&rsquo\;s priority agenda for 2010.&nbsp\;&nbsp\;&nbsp\; New this year will be panel discussions with lawmakers and other experts on the topics of fiscal policy and budget\, K-12 and higher education\, energy\, labor/workforce and health care.&nbsp\; A line-up of speakers and an event agenda will be sent out in the next few weeks.</div><div>&nbsp\;</div><div>Attendees will also have the opportunity to dialogue with their lawmakers and the NCLA Board about specific concerns and find out how they can get involved in the legislative process throughout 2010.&nbsp\;</div><div>&nbsp\;</div><div>The event runs from 7:30 to 11:30 a.m.\, with the doors opening at 7:15. The cost to attend is $20 per chamber/NCEDC member and $25 per non-member and includes continental breakfast.&nbsp\;</div><div>&nbsp\;</div><div><div style="margin: 0in 0in 0pt">&nbsp\;</div><div style="margin: 0in 0in 0pt"><span style="font-size: 11pt">Attendees to the revamped and expanded event </span><span style="font-size: 11pt">will participate in</span><span style="font-size: 11pt"> interactive and engaging panels about critical state policy issues facing the northern Colorado business community.&nbsp\;Three panels will be offered each featuring issue experts and Northern Colorado legislators.&nbsp\;&nbsp\; The panels will be moderated by a member of the NCLA Board of Directors.&nbsp\;</span><span style="font-size: 11pt">The lineup follows.&nbsp\;(Those not yet confirmed are noted as &ldquo\;invited&rdquo\;.)</span></div><div style="margin: 0in 0in 0pt">&nbsp\;</div><div style="text-indent: -76.5pt\; margin: 0in 0in 0pt 1in"><b><span style="font-size: 11pt">7:45-8:55</span></b><span style="font-size: 11pt">&nbsp\;&nbsp\;&nbsp\;&nbsp\;&nbsp\;&nbsp\;&nbsp\;&nbsp\;&nbsp\; <b>Budget and Fiscal Policy &ndash\; Colorado&rsquo\;s Economic Landscape and State of the State&rsquo\;s Budget</b></span></div><div style="margin: 0in 0in 0pt"><span style="font-size: 11pt">&nbsp\;&nbsp\;&nbsp\;&nbsp\;&nbsp\;&nbsp\;&nbsp\;&nbsp\;&nbsp\;&nbsp\;&nbsp\;&nbsp\;&nbsp\;&nbsp\;&nbsp\;&nbsp\;&nbsp\;&nbsp\;&nbsp\;&nbsp\;&nbsp\;&nbsp\;&nbsp\; Moderator: Kermit Allard\, NCLA Board Member </span></div><div style="text-indent: 0.5in\; margin: 0in 0in 0pt 0.5in"><span style="font-size: 11pt">Natalie Mullis &ndash\; Chief Economist\, Colorado Legislature</span></div><div style="text-indent: 0.5in\; margin: 0in 0in 0pt 0.5in"><span style="font-size: 11pt">Ben Curtiss-Lusher &ndash\; Policy Advisor\, Governor Bill Ritter</span></div><div style="text-indent: 0.5in\; margin: 0in 0in 0pt 0.5in"><span style="font-size: 11pt">Representative Glenn Vaad &ndash\; House District 48</span></div><div style="margin: 0in 0in 0pt"><span style="font-size: 11pt">&nbsp\;&nbsp\;&nbsp\;&nbsp\;&nbsp\;&nbsp\;&nbsp\;&nbsp\;&nbsp\;&nbsp\;&nbsp\;&nbsp\;&nbsp\;&nbsp\;&nbsp\;&nbsp\;&nbsp\;&nbsp\;&nbsp\;&nbsp\;&nbsp\;&nbsp\;&nbsp\; Representative Jim Reisberg &ndash\; House District 50</span></div><div style="margin: 0in 0in 0pt"><span style="font-size: 11pt">&nbsp\;&nbsp\;&nbsp\;&nbsp\;&nbsp\;&nbsp\;&nbsp\;&nbsp\;&nbsp\;&nbsp\;&nbsp\;&nbsp\;&nbsp\;&nbsp\;&nbsp\;&nbsp\;&nbsp\;&nbsp\;&nbsp\;&nbsp\;&nbsp\;&nbsp\;&nbsp\; Representative John Kefalas &ndash\; House District 52</span></div><div style="margin: 0in 0in 0pt"><span style="font-size: 11pt">&nbsp\;&nbsp\;&nbsp\;&nbsp\;&nbsp\;&nbsp\;&nbsp\;&nbsp\;&nbsp\;&nbsp\;&nbsp\;&nbsp\;&nbsp\;&nbsp\;&nbsp\;&nbsp\;&nbsp\;&nbsp\;&nbsp\;&nbsp\;&nbsp\;&nbsp\;&nbsp\; Representative Shawn Mitchell &ndash\; House District 23 (invited)</span></div><div style="margin: 0in 0in 0pt"><span style="font-size: 11pt">&nbsp\;&nbsp\;&nbsp\;&nbsp\;&nbsp\;&nbsp\;&nbsp\;&nbsp\;&nbsp\;&nbsp\;&nbsp\;&nbsp\;&nbsp\;&nbsp\;&nbsp\;&nbsp\;&nbsp\;&nbsp\;&nbsp\;&nbsp\;&nbsp\;&nbsp\;&nbsp\; Question and Answer Session </span></div><div style="margin: 0in 0in 0pt">&nbsp\;</div><div style="margin: 0in 0in 0pt"><b><span style="font-size: 11pt">9:00-10:10</span></b><span style="font-size: 11pt">&nbsp\;&nbsp\;&nbsp\;&nbsp\;&nbsp\; <b>Education &ndash\; The state of K-12 and Higher Education</b></span></div><div style="text-indent: 0.5in\; margin: 0in 0in 0pt 0.5in"><span style="font-size: 11pt">Moderator: Doug Lidiak\, NCLA Board Member </span></div><div style="text-indent: 0.5in\; margin: 0in 0in 0pt 0.5in"><span style="font-size: 11pt">Marsi Liddell &ndash\; President\, Aims Community College</span></div><div style="text-indent: 0.5in\; margin: 0in 0in 0pt 0.5in"><span style="font-size: 11pt">Tony Frank &ndash\; President\, Colorado State University (invited)</span></div><div style="text-indent: 0.5in\; margin: 0in 0in 0pt 0.5in"><span style="font-size: 11pt">Kay Norton &ndash\; President\, University of Northern Colorado</span></div><div style="text-indent: 0.5in\; margin: 0in 0in 0pt 0.5in"><span style="font-size: 11pt">Ron Cabrera\, Thompson School District Superintendent (invited)</span></div><div style="text-indent: 0.5in\; margin: 0in 0in 0pt 0.5in"><span style="font-size: 11pt">Senator Bob Bacon &ndash\; Senate District 14 </span></div><div style="text-indent: 0.5in\; margin: 0in 0in 0pt 0.5in"><span style="font-size: 11pt">Representative BJ Nikkel &ndash\; House District 49</span></div><div style="text-indent: 0.5in\; margin: 0in 0in 0pt 0.5in"><span style="font-size: 11pt">Senator Scott Renfroe &ndash\; Senate District 13</span></div><div style="margin: 0in 0in 0pt"><span style="font-size: 11pt">&nbsp\;&nbsp\;&nbsp\;&nbsp\;&nbsp\;&nbsp\;&nbsp\;&nbsp\;&nbsp\;&nbsp\;&nbsp\;&nbsp\;&nbsp\;&nbsp\;&nbsp\;&nbsp\;&nbsp\;&nbsp\;&nbsp\;&nbsp\;&nbsp\;&nbsp\;&nbsp\; Question and Answer Session </span></div><div style="margin: 0in 0in 0pt">&nbsp\;</div><div style="margin: 0in 0in 0pt"><b><span style="font-size: 11pt">10:15-11:20&nbsp\;&nbsp\;&nbsp\;&nbsp\; Energy &ndash\; The State of Colorado&rsquo\;s Energy Sector</span></b></div><div style="margin: 0in 0in 0pt"><span style="font-size: 11pt">&nbsp\;&nbsp\;&nbsp\;&nbsp\;&nbsp\;&nbsp\;&nbsp\;&nbsp\;&nbsp\;&nbsp\;&nbsp\;&nbsp\;&nbsp\;&nbsp\;&nbsp\;&nbsp\;&nbsp\;&nbsp\;&nbsp\;&nbsp\;&nbsp\;&nbsp\;&nbsp\; Moderator:&nbsp\;Bill See\, NCLA Board Member </span></div><div style="text-indent: 0.5in\; margin: 0in 0in 0pt 0.5in"><span style="font-size: 11pt">Jeff Lyng &ndash\; Renewable Energy Policy Manager\, Governor&rsquo\;s Energy Office</span></div><div style="margin: 0in 0in 0pt"><span style="font-size: 11pt">&nbsp\;&nbsp\;&nbsp\;&nbsp\;&nbsp\;&nbsp\;&nbsp\;&nbsp\;&nbsp\;&nbsp\;&nbsp\;&nbsp\;&nbsp\;&nbsp\;&nbsp\;&nbsp\;&nbsp\;&nbsp\;&nbsp\;&nbsp\;&nbsp\;&nbsp\;&nbsp\; Jim Sims &ndash\; Found and Senior Advisor\, NextGen Energy Council</span></div><div style="text-indent: -0.25in\; margin: 0in 0in 0pt 1.25in"><span style="font-size: 11pt">Representative Cory Gardner &ndash\; House District 63 and 4<sup>th</sup> Congressional District Candidate</span></div><div style="margin: 0in 0in 0pt"><span style="font-size: 11pt">&nbsp\;&nbsp\;&nbsp\;&nbsp\;&nbsp\;&nbsp\;&nbsp\;&nbsp\;&nbsp\;&nbsp\;&nbsp\;&nbsp\;&nbsp\;&nbsp\;&nbsp\;&nbsp\;&nbsp\;&nbsp\;&nbsp\;&nbsp\;&nbsp\;&nbsp\;&nbsp\; John Jacus &ndash\; Davis\, Graham and Stubbs</span></div><div style="text-indent: 0.5in\; margin: 0in 0in 0pt 0.5in"><span style="font-size: 11pt">Representative Randy Fischer &ndash\; House District 53</span></div><div style="text-indent: 0.5in\; margin: 0in 0in 0pt"><span style="font-size: 11pt">&nbsp\;&nbsp\;&nbsp\;&nbsp\;&nbsp\;&nbsp\;&nbsp\;&nbsp\;&nbsp\;&nbsp\;&nbsp\; Senator Kevin Lundberg &ndash\; Senate District 15 (invited)</span></div><div style="margin: 0in 0in 0pt"><span style="font-size: 11pt">&nbsp\;&nbsp\;&nbsp\;&nbsp\;&nbsp\;&nbsp\;&nbsp\;&nbsp\;&nbsp\;&nbsp\;&nbsp\;&nbsp\;&nbsp\;&nbsp\;&nbsp\;&nbsp\;&nbsp\;&nbsp\;&nbsp\;&nbsp\;&nbsp\;&nbsp\;&nbsp\; Representative Brian DelGrosso &ndash\; House District 51 (invited)</span></div><div style="margin: 0in 0in 0pt"><span style="font-size: 11pt">&nbsp\;&nbsp\;&nbsp\;&nbsp\;&nbsp\;&nbsp\;&nbsp\;&nbsp\;&nbsp\;&nbsp\;&nbsp\;&nbsp\;&nbsp\;&nbsp\;&nbsp\;&nbsp\;&nbsp\;&nbsp\;&nbsp\;&nbsp\;&nbsp\;&nbsp\;&nbsp\; Question and Answer Session</span></div><div style="margin: 0in 0in 0pt">&nbsp\;</div><div style="margin: 0in 0in 0pt"><b><span style="font-size: 11pt">11:30 &nbsp\;&nbsp\;&nbsp\;&nbsp\;&nbsp\;&nbsp\;&nbsp\;&nbsp\;&nbsp\;&nbsp\;&nbsp\;&nbsp\;&nbsp\; Adjourn</span></b></div><div style="margin: 0in 0in 0pt">&nbsp\;</div><div style="margin: 0in 0in 0pt"><span style="font-size: 11pt">Congresswoman Besty Markey is also planning to attend a portion of the meeting and will update attendees on these issue areas at the federal level.</span></div><div style="margin: 0in 0in 0pt">&nbsp\;</div><div style="margin: 0in 0in 0pt"><span style="font-size: 11pt">The continental breakfast is taking place on Thursday\, January 7 at Embassy Suites\, event host and sponsor\, 4705 Clydesdale Parkway in Loveland from 7:30 to 11:30 a.m.\, with the doors opening at 7:15.&nbsp\;Cost to attend is $20 for chamber and NCEDC members and $25 for non-members.</span></div><div style="margin: 0in 0in 0pt">&nbsp\;</div><div style="margin: 0in 0in 0pt"><span style="font-size: 11pt"><a href="http://www.nclaonline.net/registration.asp">Click here</a> to register online for the Legislative Preview.&nbsp\;Call the Loveland Chamber with registration questions at 970-667-6311.&nbsp\;Contact Paige Oswald with questions about the event or to learn about event sponsorship opportunities at <a href="mailto:poswald@capitol-solutions.com">poswald@capitol-solutions.com</a>.</span></div><div style="margin: 0in 0in 0pt">&nbsp\;</div><div style="margin: 0in 0in 0pt"><span style="font-size: 11pt">The NCLA is the joint public policy advocacy effort of the Fort Collins\, Greeley and Loveland Chambers of Commerce and the Northern Colorado Economic Development Corporation.&nbsp\;Sustaining investors of the NCLA include McWhinney\, McKee Medical Center\, Woodward Governor and Qwest.</span></div></div><div>&nbsp\;</div><div>&nbsp\;</div>
LOCATION:Embassy Suites\, 4705 Clydesdale Parkway in Loveland
UID:e.593.2064
SEQUENCE:3
DTSTAMP:20260419T173032Z
URL:https://business.loveland.org/events/details/ncla-legislative-preview-and-regional-issues-forum-01-07-2010-2064
END:VEVENT

END:VCALENDAR
