BEGIN:VCALENDAR
VERSION:2.0
PRODID:-//ChamberMaster//Event Calendar 2.0//EN
METHOD:PUBLISH
X-PUBLISHED-TTL:P3D
REFRESH-INTERVAL:P3D
CALSCALE:GREGORIAN
BEGIN:VEVENT
DTSTART;VALUE=DATE:20100109
DTEND;VALUE=DATE:20100110
TRANSP:TRANSPARENT
X-MICROSOFT-CDO-ALLDAYEVENT:TRUE
SUMMARY:New Year - New Finances
DESCRIPTION:Start the new year with a fresh look at your finances.The Loveland Public Library is presenting an all-day personal finance and investment workshop. Cost of the workshop is covered by a Smart Investing @ your library grant from the American Library Association and the FINRA Foundation
X-ALT-DESC;FMTTYPE=text/html:<div>Start the new year with a fresh look at your finances.</div><div>The Loveland Public Library is presenting an all-day personal finance and investment workshop. Cost of the workshop is covered by a Smart Investing @ your library grant from the American Library Association and the FINRA Foundation</div><div>&nbsp\;</div>
LOCATION:The Gertrude B. Scott room of the Loveland Public Library
UID:e.593.2067
SEQUENCE:3
DTSTAMP:20260419T160311Z
URL:https://business.loveland.org/events/details/new-year-new-finances-01-09-2010-2067
END:VEVENT

END:VCALENDAR
